BEGIN:VCALENDAR
VERSION:2.0
PRODID:-//ChamberMaster//Event Calendar 2.0//EN
METHOD:PUBLISH
X-PUBLISHED-TTL:P3D
REFRESH-INTERVAL:P3D
CALSCALE:GREGORIAN
BEGIN:VEVENT
DTSTART:20130911T174500Z
DTEND:20130911T190000Z
X-MICROSOFT-CDO-ALLDAYEVENT:FALSE
SUMMARY:Chamber Luncheon featuring Washington County Sheriff Cory Pulsipher
DESCRIPTION:The mission of the Washington County Sheriff's Office is to provide the highest quality law enforcement services to the citizens of Washington County.  They respect the diversity of their citizens by serving all people fairly and equally.  The Washington County Sheriff's Office is organized into four divisions:  Administrative\, Corrections\, Emergency Services\, and Patrol.\n\nWith over 25 years of experience in law enforcement\, Sheriff Cory Pulsipher has been involved with Search & Rescue\, SWAT and was instrumental in starting a bike patrol program.  Sheriff Pulsipher moved up the ranks--making Corporal in 1997\, Sergeant in 1999\, and Lieutenant in 2003 before being elected Sheriff.  His remarks today will be centered around the various Washington County Sheriff's Office divisions.
X-ALT-DESC;FMTTYPE=text/html:The mission of the Washington County Sheriff&#39\;s Office is to provide the highest quality law enforcement services to the citizens of Washington County. &nbsp\;They respect the diversity of their citizens by serving all people fairly and equally. &nbsp\;The Washington County Sheriff&#39\;s Office is organized into four divisions: &nbsp\;Administrative\, Corrections\, Emergency Services\, and Patrol.<br />\nWith over 25 years of experience in law enforcement\, Sheriff Cory Pulsipher&nbsp\;has been involved with Search &amp\; Rescue\, SWAT and was instrumental in starting a bike patrol program. &nbsp\;Sheriff Pulsipher&nbsp\;moved up the ranks--making Corporal in 1997\, Sergeant in 1999\, and&nbsp\;Lieutenant in 2003 before being elected Sheriff. &nbsp\;His remarks today will be centered around the various Washington County Sheriff&#39\;s Office divisions.
LOCATION:The Falls Event Center 170 S. Mall Drive St. George\, Utah
UID:e.1117.4266
SEQUENCE:3
DTSTAMP:20260421T213616Z
URL:https://business.stgeorgechamber.com/events/details/chamber-luncheon-featuring-washington-county-sheriff-cory-pulsipher-09-11-2013-4266
END:VEVENT

END:VCALENDAR
