BEGIN:VCALENDAR
VERSION:2.0
PRODID:-//ChamberMaster//Event Calendar 2.0//EN
METHOD:PUBLISH
X-PUBLISHED-TTL:P3D
REFRESH-INTERVAL:P3D
CALSCALE:GREGORIAN
BEGIN:VEVENT
DTSTART:20130605T180000Z
DTEND:20130605T190000Z
X-MICROSOFT-CDO-ALLDAYEVENT:FALSE
SUMMARY:Chamber Luncheon featuring SkyWest Airlines VP
DESCRIPTION:Chip Childs is President and Chief Operating Officer of SkyWest Airlines.\n\n	Russell "Chip" Childs came to SkyWest in 2001 and was named vice president - controller. Joining SkyWest at a significant time in the airline's history\, Chip has proven instrumental in SkyWest's evolution as a part of the world's largest regional airline alliance.\n\n	Since taking the helm of SkyWest Airlines in 2007\, Chip has guided the airline through some of the industry's most challenging times while keeping the airline's workforce engaged and breaking new ground in the industry's model. His commitment to SkyWest's people\, coupled with his management of the airline's partner carrier relationships\, financial planning and internal controls have proven invaluable in his current role. He has been integral in solidifying contracts and relationships with SkyWest's major partners\, and played an important role in SkyWest Inc.'s acquisition of Atlantic Southeast Airlines in 2005. His value-based\, innovative approach continues to successfully create opportunity and provide value for SkyWest stakeholders.\n\n	Prior to his employment with SkyWest\, Chip worked in public accounting for five and a half years as an audit manager\, assisting many large corporations with financial accounting and SEC reporting. He earned his bachelor's degree in Economics and master's degree in Accounting from Brigham Young University. Chip resides in St. George with his wife Jennifer\, their three sons and  daughter.
X-ALT-DESC;FMTTYPE=text/html:<p style="margin: 0px 0px 10px\; padding: 5px 20px 0px 0px\; font-family: 'Helvetica Neue'\, Arial\, Helvetica\, sans-serif\; color: rgb(36\, 36\, 36)\; line-height: 18px\; font-size: 13px\; background-color: rgb(245\, 245\, 245)\;">\n	Chip Childs is President and Chief Operating Officer of SkyWest Airlines.</p>\n<p style="margin: 0px 0px 10px\; padding: 5px 20px 0px 0px\; font-family: 'Helvetica Neue'\, Arial\, Helvetica\, sans-serif\; color: rgb(36\, 36\, 36)\; line-height: 18px\; font-size: 13px\; background-color: rgb(245\, 245\, 245)\;">\n	Russell &quot\;Chip&quot\; Childs&nbsp\;came to SkyWest in 2001 and was named vice president - controller. Joining SkyWest at a significant time in the airline&rsquo\;s history\, Chip has proven instrumental in SkyWest&rsquo\;s evolution as a part of the world&rsquo\;s largest regional airline alliance.</p>\n<p style="margin: 0px 0px 10px\; padding: 5px 20px 0px 0px\; font-family: 'Helvetica Neue'\, Arial\, Helvetica\, sans-serif\; color: rgb(36\, 36\, 36)\; line-height: 18px\; font-size: 13px\; background-color: rgb(245\, 245\, 245)\;">\n	Since taking the helm of SkyWest Airlines in 2007\, Chip has guided the airline through some of the industry&rsquo\;s most challenging times while keeping the airline&rsquo\;s workforce engaged and breaking new ground in the industry&rsquo\;s model. His commitment to SkyWest&rsquo\;s people\, coupled with his management of the airline&rsquo\;s partner carrier relationships\, financial planning and internal controls have proven invaluable in his current role. He has been integral in solidifying contracts and relationships with SkyWest&rsquo\;s major partners\, and played an important role in SkyWest Inc.&rsquo\;s acquisition of Atlantic Southeast Airlines in 2005. His value-based\, innovative approach continues to successfully create opportunity and provide value for SkyWest stakeholders.</p>\n<p style="margin: 0px 0px 10px\; padding: 5px 20px 0px 0px\; font-family: 'Helvetica Neue'\, Arial\, Helvetica\, sans-serif\; color: rgb(36\, 36\, 36)\; line-height: 18px\; font-size: 13px\; background-color: rgb(245\, 245\, 245)\;">\n	Prior to his employment with SkyWest\, Chip worked in public accounting for five and a half years as an audit manager\, assisting many large corporations with financial accounting and SEC reporting. He earned his bachelor&#39\;s degree in Economics and master&#39\;s degree in Accounting from Brigham Young University. Chip resides in St. George with his wife Jennifer\, their three sons and&nbsp\; daughter.</p>\n
LOCATION:Entrada Country Club
UID:e.1117.2964
SEQUENCE:3
DTSTAMP:20260422T041715Z
URL:https://business.stgeorgechamber.com/events/details/chamber-luncheon-featuring-skywest-airlines-vp-06-05-2013-2964
END:VEVENT

END:VCALENDAR
