BEGIN:VCALENDAR
VERSION:2.0
PRODID:-//ChamberMaster//Event Calendar 2.0//EN
METHOD:PUBLISH
X-PUBLISHED-TTL:P3D
REFRESH-INTERVAL:P3D
CALSCALE:GREGORIAN
BEGIN:VEVENT
DTSTART:20130501T180000Z
DTEND:20130501T190000Z
X-MICROSOFT-CDO-ALLDAYEVENT:FALSE
SUMMARY:Chamber Luncheon featuring RAM Manufacturing GM Kevin Ganowsky
DESCRIPTION:RAM Company is dedicated to continual improvement in providing our customers with the best design solutions while maintaining an on-going commitment to provide product that meets all quality requirements\, on time\, and at competitive prices.\n\n\n\nRay and Melzie Ganowsky founded RAM Company in 1975 and have subsequently built a World Class organization employing many highly skilled workers\, including their son Kevin\, RAM's current General Manager.\n\nRAM Company designs and manufactures solenoids and valves with exacting standards for NASA\, the military\, undersea submersibles\, and a variety of commercial applications. Our commitment to innovation and excellence begins with the example of our founder Ray Ganowsky. Ray holds 23 U.S. and foreign patents for solenoid design\, and has received many awards and recognitions such as The Governor's Medal for Science and Technology\, and the City of St. George\, Utah's prestigious "Entrepreneur of the Year" award.\n\n \n\nLooking Forward\n\nManagement has a strong desire for growth and cutting-edge technological advancement\, and recently doubled the size of RAM's facility in order to accommodate growing demand and to increase product flow. In addition\, our advanced engineering knowledge base allows us to expand into new\, challenging areas of design and production capability. RAM has developed a steady culture of technological advancement and improvement\, and is aggressively moving toward its goal of becoming the world's most reliable supplier of customized solenoids\, solenoid valves\, check and relief valves\, and pressure switches.\n\nWith over 1200 designs and a solid history on innovation and commitment\, RAM Company truly is your design solution!
X-ALT-DESC;FMTTYPE=text/html:<span style="color:black\;"><span style="font-family:tahoma\,sans-serif\;"><span style="font-size:9.0pt\;">RAM Company is dedicated to continual improvement in providing our customers with the best design solutions while maintaining an on-going commitment to provide product that meets all quality requirements\, on time\, and at competitive prices.</span></span></span><br />\n<br />\n<span style="color:black\;"><span style="font-family:tahoma\,sans-serif\;"><span style="font-size:9.0pt\;">Ray and Melzie Ganowsky founded RAM Company in 1975 and have subsequently built a World Class organization employing many highly skilled workers\, including their son Kevin\, RAM&#39\;s current General Manager.</span></span></span><br />\n<span style="color:black\;"><span style="font-family:tahoma\,sans-serif\;"><span style="font-size:9.0pt\;">RAM Company designs and manufactures solenoids and valves with exacting standards for NASA\, the military\, undersea submersibles\, and a variety of commercial applications. Our commitment to innovation and excellence begins with the example of our founder Ray Ganowsky. Ray holds 23 U.S. and foreign patents for solenoid design\, and has received many awards and recognitions such as The Governor&#39\;s Medal for Science and Technology\, and the City of St. George\, Utah&#39\;s prestigious &quot\;Entrepreneur of the Year&quot\; award.</span></span></span><br />\n&nbsp\;<br />\n<strong><span style="color:#4f120a\;"><span style="font-family:tahoma\,sans-serif\;"><span style="font-size:18.0pt\;">Looking Forward</span></span></span></strong><br />\n<span style="color:black\;"><span style="font-family:tahoma\,sans-serif\;"><span style="font-size:9.0pt\;">Management has a strong desire for growth and cutting-edge technological advancement\, and recently doubled the size of RAM&#39\;s facility in order to accommodate growing demand and to increase product flow. In addition\, our advanced engineering knowledge base allows us to expand into new\, challenging areas of design and production capability. RAM has developed a steady culture of technological advancement and improvement\, and is aggressively moving toward its goal of becoming the world&#39\;s most reliable supplier of customized solenoids\, solenoid valves\, check and relief valves\, and pressure switches.</span></span></span><br />\n<span style="color:black\;"><span style="font-family:tahoma\,sans-serif\;"><span style="font-size:9.0pt\;">With over 1200 designs and a solid history on innovation and commitment\, RAM Company truly is your design solution!</span></span></span><br />\n
LOCATION:Best Western Abbey Inn 1129 S. Bluff Street St. George\, UT
UID:e.1117.2939
SEQUENCE:3
DTSTAMP:20260422T060039Z
URL:https://business.stgeorgechamber.com/events/details/chamber-luncheon-featuring-ram-manufacturing-gm-kevin-ganowsky-05-01-2013-2939
END:VEVENT

END:VCALENDAR
