BEGIN:VCALENDAR
VERSION:2.0
PRODID:-//ChamberMaster//Event Calendar 2.0//EN
METHOD:PUBLISH
X-PUBLISHED-TTL:P3D
REFRESH-INTERVAL:P3D
CALSCALE:GREGORIAN
BEGIN:VEVENT
DTSTART:20130508T180000Z
DTEND:20130508T190000Z
X-MICROSOFT-CDO-ALLDAYEVENT:FALSE
SUMMARY:Chamber Luncheon featuring Networking and Tuacahn
DESCRIPTION:Come learn about Tuacahn's 2013 season with special performances by cast members!  Also\, get to know other businesses by networking and participating in Business Card Bingo!  Lunch is catered by Chick-fil-A.
X-ALT-DESC;FMTTYPE=text/html:<font face="arial" size="3">Come learn about Tuacahn&#39\;s 2013 season with special performances by cast members! &nbsp\;Also\, get to know other businesses by networking and participating in Business Card Bingo! &nbsp\;Lunch is catered by Chick-fil-A.</font>
LOCATION:Tuacahn 1100 Tuacahn Dr. Ivins
UID:e.1117.2943
SEQUENCE:3
DTSTAMP:20260422T055025Z
URL:https://business.stgeorgechamber.com/events/details/chamber-luncheon-featuring-networking-and-tuacahn-05-08-2013-2943
END:VEVENT

END:VCALENDAR
