BEGIN:VCALENDAR
VERSION:2.0
PRODID:-//ChamberMaster//Event Calendar 2.0//EN
METHOD:PUBLISH
X-PUBLISHED-TTL:P3D
REFRESH-INTERVAL:P3D
CALSCALE:GREGORIAN
BEGIN:VEVENT
DTSTART:20130904T174500Z
DTEND:20130904T180000Z
X-MICROSOFT-CDO-ALLDAYEVENT:FALSE
SUMMARY:Chamber Luncheon featuring Family Dollar Regional VP Will Frace
DESCRIPTION:Will Frace will discuss the site selection process\, the building/design/cost (size\, capacity and local v. out of state percentages dollars spent in 50 mi radius)\, staffing/Budget/Employment Opportunities (average wage non-exempt/exempt)\, Operating metrics (the wow #s\, environmental responsibility) and future growth.
X-ALT-DESC;FMTTYPE=text/html:Will Frace will discuss the site selection process\, the building/design/cost (size\, capacity and local v. out of state percentages&hellip\;dollars spent in 50 mi radius)\, staffing/Budget/Employment Opportunities (average wage non-exempt/exempt)\,&nbsp\;Operating metrics (the wow #s\, environmental responsibility) and future growth.<br />\n
LOCATION:The Falls Event Center 170 S. Mall Drive St. George\, Utah
UID:e.1117.4268
SEQUENCE:3
DTSTAMP:20260421T213935Z
URL:https://business.stgeorgechamber.com/events/details/chamber-luncheon-featuring-family-dollar-regional-vp-will-frace-09-04-2013-4268
END:VEVENT

END:VCALENDAR
