BEGIN:VCALENDAR
VERSION:2.0
PRODID:-//ChamberMaster//Event Calendar 2.0//EN
METHOD:PUBLISH
X-PUBLISHED-TTL:P3D
REFRESH-INTERVAL:P3D
CALSCALE:GREGORIAN
BEGIN:VEVENT
DTSTART:20131204T190000Z
DTEND:20131204T200000Z
X-MICROSOFT-CDO-ALLDAYEVENT:FALSE
SUMMARY:Chamber Luncheon featuring Chamber President Gregg McArthur
DESCRIPTION:The Chamber CEO will be reviewing his plans for rebranding the Chamber in 2014.  You'll want to be there to hear his plans for increasing the value of your chamber membership.  The Chamber will be revamping the format of their weekly luncheons to provide inspiring leadership speakers\, training coaches\, networking initiatives and so much more.  You'll learn how the Chamber will  become a more relevant community to serve your needs and help solve the challenges your facing in your business.  Come prepared to be impressed.
X-ALT-DESC;FMTTYPE=text/html:<span style="font-size:14px\;"><span style="font-family:verdana\;">The Chamber CEO will be reviewing his plans for rebranding the Chamber in 2014.&nbsp\; You&#39\;ll want to be there to hear his plans for increasing the value of your chamber membership. &nbsp\;The Chamber will be revamping the format of their weekly luncheons to provide inspiring leadership speakers\, training coaches\, networking initiatives and so much more.&nbsp\; You&#39\;ll learn how the Chamber will&nbsp\; become a more relevant community to serve your needs and help solve the challenges your facing in your business.&nbsp\; Come prepared to be impressed. &nbsp\;&nbsp\;</span></span><br />\n
LOCATION:Courtyard by Marriott 185 S. 1470 E. St. George\, Utah
UID:e.1117.4966
SEQUENCE:3
DTSTAMP:20260421T171616Z
URL:https://business.stgeorgechamber.com/events/details/chamber-luncheon-featuring-chamber-president-gregg-mcarthur-12-04-2013-4966
END:VEVENT

END:VCALENDAR
