BEGIN:VCALENDAR
VERSION:2.0
PRODID:-//ChamberMaster//Event Calendar 2.0//EN
METHOD:PUBLISH
X-PUBLISHED-TTL:P3D
REFRESH-INTERVAL:P3D
CALSCALE:GREGORIAN
BEGIN:VEVENT
DTSTART:20130807T180000Z
DTEND:20130807T190000Z
X-MICROSOFT-CDO-ALLDAYEVENT:FALSE
SUMMARY:Chamber Luncheon featuring Best Friends Animal Sanctuary CEO
DESCRIPTION:One of the founders of Best Friends Animal Society\, Gregory Castle now serves as the CEO of Best Friends. Throughout much of the last 25 years\, Gregory has been a key leader in animal welfare\, as well as a voice of reason and reconciliation among grassroots rescue groups\, animal shelters and national animal organizations.\n\n \n\nGregory created No More Homeless Pets in Utah\, a campaign involving animal welfare and rescue organizations\, animal control officers\, veterinarians\, schools\, and animal lovers from across the state in aggressive spay/neuter\, adoption and public awareness programs. Now merged with Best Friends\, the campaign is called Best Friends Animal Society Utah.\n\n \n\nGregory also initiated Utah's Week for the Animals\, now in its 16th year. The week includes educational and public awareness programs\, special discount spay/neuter services\, pet adoption fairs\, and public service awards. It is a model for cooperative efforts in the humane community throughout the country.\n\n \n\nGregory grew up in England and is a graduate of Cambridge University with a master's degree in philosophy and psychology. His background includes extensive administrative and accounting work for nonprofit human services and church organizations.\n\n \n\nChief Executive Officer\, Best Friends Animal Society\, Kanab\, Utah\n\n435-644-2001  |  bestfriends.org
X-ALT-DESC;FMTTYPE=text/html:One of the founders of Best Friends Animal Society\, Gregory Castle now serves as the CEO of Best Friends. Throughout much of the last 25 years\, Gregory has been a key leader in animal welfare\, as well as a voice of reason and reconciliation among grassroots rescue groups\, animal shelters and national animal organizations.<br />\n&nbsp\;<br />\nGregory created No More Homeless Pets in Utah\, a campaign involving animal welfare and rescue organizations\, animal control officers\, veterinarians\, schools\, and animal lovers from across the state in aggressive spay/neuter\, adoption and public awareness programs. Now merged with Best Friends\, the campaign is called Best Friends Animal Society&ndash\;Utah.<br />\n&nbsp\;<br />\nGregory also initiated Utah&rsquo\;s Week for the Animals\, now in its 16th year. The week includes educational and public awareness programs\, special discount spay/neuter services\, pet adoption fairs\, and public service awards. It is a model for cooperative efforts in the humane community throughout the country.<br />\n&nbsp\;<br />\nGregory grew up in England and is a graduate of Cambridge University with a master&rsquo\;s degree in philosophy and psychology. His background includes extensive administrative and accounting work for nonprofit human services and church organizations.<br />\n&nbsp\;<br />\nChief Executive Officer\, Best Friends Animal Society\, Kanab\, Utah<br />\n435-644-2001&nbsp\; |&nbsp\; bestfriends.org<br />\n
LOCATION:Dixie State University Gardner Center Ballroom 225 S. 700 E. St. George\, UT
UID:e.1117.2957
SEQUENCE:3
DTSTAMP:20260421T233235Z
URL:https://business.stgeorgechamber.com/events/details/chamber-luncheon-featuring-best-friends-animal-sanctuary-ceo-08-07-2013-2957
END:VEVENT

END:VCALENDAR
