BEGIN:VCALENDAR
VERSION:2.0
PRODID:-//ChamberMaster//Event Calendar 2.0//EN
METHOD:PUBLISH
X-PUBLISHED-TTL:P3D
REFRESH-INTERVAL:P3D
CALSCALE:GREGORIAN
BEGIN:VEVENT
DTSTART:20130403T180000Z
DTEND:20130403T190000Z
X-MICROSOFT-CDO-ALLDAYEVENT:FALSE
SUMMARY:Chamber Luncheon featuring American Cancer Society Vice-President Pam Higginson
DESCRIPTION:Pam Higginson is the Vice President of the American Cancer Society\, Utah Region\, with direct responsibility for the Major Gift Development Program\, Utah Region Board and the Hope Lodge Capital Campaign Board.  Pam also serves as the Director of the Hope Lodge Capital Campaign which launched its "public" phase of the campaign on September 20th at the society's annual Hope Gala. Prior to joining the American Cancer Society\, Pam worked as the Director of Development for the Ezekiel R. Dumke College of Health Professions and Stewart Library at Weber State University for 10 years.  Her passion to make a difference in the lives of cancer patients and their families was the motivating force for joining the work of the American Cancer Society almost 8 years ago.
X-ALT-DESC;FMTTYPE=text/html:<span style="font-size: 14px\;"><span style="font-family: arial\;">Pam Higginson is the Vice President of the American Cancer Society\, Utah Region\, with direct responsibility for the Major Gift Development Program\, Utah Region Board and the Hope Lodge Capital Campaign Board.&nbsp\; Pam also serves as the Director of the Hope Lodge Capital Campaign which launched its &ldquo\;public&rdquo\; phase of the campaign on September 20<sup>th</sup> at the society&rsquo\;s annual Hope Gala. Prior to joining the American Cancer Society\, Pam worked as the Director of Development for the Ezekiel R. Dumke College of Health Professions and Stewart Library at Weber State University for 10 years.&nbsp\; Her passion to make a difference in the lives of cancer patients and their families was the motivating force for joining the work of the American Cancer Society almost 8 years ago.&nbsp\; </span></span><br />\n
LOCATION:Best Western Abbey Inn 1129 S. Bluff Street St. George\, UT
UID:e.1117.2911
SEQUENCE:3
DTSTAMP:20260422T062211Z
URL:https://business.stgeorgechamber.com/events/details/chamber-luncheon-featuring-american-cancer-society-vice-president-pam-higginson-04-03-2013-2911
END:VEVENT

END:VCALENDAR
