BEGIN:VCALENDAR
VERSION:2.0
PRODID:-//ChamberMaster//Event Calendar 2.0//EN
METHOD:PUBLISH
X-PUBLISHED-TTL:P3D
REFRESH-INTERVAL:P3D
CALSCALE:GREGORIAN
BEGIN:VEVENT
DTSTART:20130814T180000Z
DTEND:20130814T190000Z
X-MICROSOFT-CDO-ALLDAYEVENT:FALSE
SUMMARY:Chamber Luncheon "Customer Service Training for Real Life"
DESCRIPTION:Let's not beat around the bush\; your customers can be awful. Sometimes they think they know it all\, and other times they just seem determined to make your life miserable. Fortunately\, Nexeo has been through all of that before with its clients and its clients' employees. They know the reality of long minutes on the phone and panicked seconds between calls.\n\n \n\nThat's why they offer customer service training for real life\, without any of the flowery statements or inspirational posters that most training programs rely on. After all\, you don't need to know how to deal with the perky\, cooperative customers\; you just need to know how to keep your cool when the beastly ones show their fangs.
X-ALT-DESC;FMTTYPE=text/html:<span style="font-family:helvetica\,sans-serif\;">Let&rsquo\;s not beat around the bush\; your customers can be awful. Sometimes they think they know it all\, and other times they just seem determined to make your life miserable. Fortunately\, Nexeo has been through all of that before with its clients and its clients&rsquo\; employees. They know the reality of long minutes on the phone and panicked seconds between calls.</span><br />\n&nbsp\;<br />\n<span style="font-family:helvetica\,sans-serif\;">That&rsquo\;s why they offer customer service training for real life\, without any of the flowery statements or inspirational posters that most training programs rely on. After all\, you don&rsquo\;t need to know how to deal with the perky\, cooperative customers\; you just need to know how to keep your cool when the beastly ones show their fangs.&nbsp\;</span><br />\n
LOCATION:Dixie State University Gardner Center Ballroom 225 S. 700 E. St. George\, UT
UID:e.1117.4251
SEQUENCE:3
DTSTAMP:20260421T233044Z
URL:https://business.stgeorgechamber.com/events/details/chamber-luncheon-customer-service-training-for-real-life-08-14-2013-4251
END:VEVENT

END:VCALENDAR
