BEGIN:VCALENDAR
VERSION:2.0
PRODID:-//ChamberMaster//Event Calendar 2.0//EN
METHOD:PUBLISH
X-PUBLISHED-TTL:P3D
REFRESH-INTERVAL:P3D
CALSCALE:GREGORIAN
BEGIN:VEVENT
DTSTART:20130710T180000Z
DTEND:20130710T190000Z
X-MICROSOFT-CDO-ALLDAYEVENT:FALSE
SUMMARY:Chamber Lunch featuring Washington County Water Conservancy District
DESCRIPTION:The Washington County Water Conservancy District recently retained national economist and analyst\, Jeremy Aguero\, to research the water stability in Washington County.  He will review the economic\, fiscal and development impacts of water projects and how it relates to our state and local economy.  Jeremy Aguero is a principal analyst with Applied Analysis and has been with the firm since its inception in 1997.  His areas of expertise include economic analysis\, operational model development and fiscal impact analysis.  During his last year of undergraduate course work\, Jeremy took a position as an intern/analyst with Coopers and Lybrand\, LLC's (now PricewaterhouseCoopers) Financial Advisory Services group.  After spending eighteen months with Coopers\, he left and began his tenure with Applied Analysis. \n\n	 \n\n	Jeremy's project history demonstrates a wide range of abilities and clients: major water projects\, wastewater\, community master planning\, aviation\, state legislative issues\, tax policy\, chambers of commerce\, homebuilders\, developers and many\, many more.  He has worked for clients in the private and public sectors\, and undertaken projects of local\, regional and national significance.  \n\n	 \n\n	Jeremy graduated with cum laude honors with a bachelor's and juris doctorate degree from the University of Nevada\, Las Vegas. He currently serves as a board member for a financial institution and several non-profit organizations.  The magazine\, InBusiness\, named Jeremy one of the nation's top 40 under 40.  He has authored several publications\, made numerous presentations and his services are in high demand.  Perhaps most outstanding is the fact that he has coached juniors basketball since 2003.
X-ALT-DESC;FMTTYPE=text/html:<div style="margin: 0px\; padding: 0px\; font-family: OptimaRegular\, Arial\, Helvetica\, sans-serif\; color: rgb(138\, 62\, 45)\; font-size: 14px\;">\n	<span style="font-size:14px\;"><span style="font-family: arial\;"><span style="color: rgb(0\, 0\, 0)\;">The Washington County Water Conservancy District recently retained national economist and analyst\, Jeremy Aguero\, to research the water stability in Washington County.&nbsp\; He will review the economic\, fiscal and development impacts of water projects and how it relates to our state and local economy.&nbsp\; Jeremy Aguero is a principal analyst with Applied Analysis and has been with the firm since its inception in 1997.&nbsp\; His areas of expertise include economic analysis\, operational model development and fiscal impact analysis. &nbsp\;During his last year of undergraduate course work\, Jeremy took a position as an intern/analyst with Coopers and Lybrand\, LLC&rsquo\;s (now PricewaterhouseCoopers) Financial Advisory Services group.&nbsp\; After spending eighteen months with Coopers\, he left and began his tenure with Applied Analysis.&nbsp\;<br />\n	&nbsp\;<br />\n	Jeremy&rsquo\;s project history demonstrates a wide range of abilities and clients: major water projects\, wastewater\, community master planning\, aviation\, state legislative issues\, tax policy\, chambers of commerce\, homebuilders\, developers and many\, many more.&nbsp\; He has worked for clients in the private and public sectors\, and undertaken projects of local\, regional and national significance. &nbsp\;<br />\n	&nbsp\;<br />\n	Jeremy graduated with cum laude honors with a bachelor&rsquo\;s and juris doctorate degree from the University of Nevada\, Las Vegas. He currently serves as a board member for a financial institution and several non-profit organizations.&nbsp\; The magazine\,<em> InBusiness</em>\, named Jeremy one of the nation&rsquo\;s top 40 under 40.&nbsp\; He has authored several publications\, made numerous presentations and his services are in high demand.&nbsp\; Perhaps most outstanding is the fact that he has coached juniors basketball since 2003.</span></span></span></div>\n
LOCATION:Best Western Abbey Inn 1129 S. Bluff Street St. George
UID:e.1117.4178
SEQUENCE:3
DTSTAMP:20260422T011201Z
URL:https://business.stgeorgechamber.com/events/details/chamber-lunch-featuring-washington-county-water-conservancy-district-07-10-2013-4178
END:VEVENT

END:VCALENDAR
