BEGIN:VCALENDAR
VERSION:2.0
PRODID:-//ChamberMaster//Event Calendar 2.0//EN
METHOD:PUBLISH
X-PUBLISHED-TTL:P3D
REFRESH-INTERVAL:P3D
CALSCALE:GREGORIAN
BEGIN:VEVENT
DTSTART:20131113T184500Z
DTEND:20131113T200000Z
X-MICROSOFT-CDO-ALLDAYEVENT:FALSE
SUMMARY:Chamber Lunch featuring Utah Director of Tourism\, Film & Global Branding
DESCRIPTION:Vicki Varela is the director of Tourism\, Film and Global Branding for the state of Utah.  She is establishing Life Elevated as Utah's brand promise for all customers and citizens\, persuading people to live work and play in Utah.   She oversees the state's tourism marketing strategy\, including the Mighty Five National Parks and the Greatest Snow on Earth.  Tourism is a major part of Utah's economy\, with tourists spending $7.4 billion last year\, and contributing $960 million in state and local taxes.  \n\n \n\nVicki's career has been in the persuasion business.  She has held many public and private sector leadership roles.  As vice president of Kennecott Land\, she launched the Daybreak brand\, marketing and community relations strategies.  She was deputy chief of staff and spokesperson for Governor Mike Leavitt\, helping position him as one of the most popular governors in the country.   She was a key founder of Prosperity 2020\, which is the largest coalition of business leaders ever assembled to advocate for Utah public and higher education.  Vicki helped position Utah to host the 2002 Winter Olympics by organizing the statewide referendum to build Olympic facilities. She is the mother of two adult sons and recently became a grandmother. \n\n \n\nSt. George Chamber speech topics:\n\n          Establishing Utah's Life Elevated brand\n\n          Tourism Marketing:  The Mighty Five and The Greatest Snow on Earth\n\n          Impact of the federal shutdown\n\n          St. George Welcome Center
X-ALT-DESC;FMTTYPE=text/html:Vicki Varela is the director of Tourism\, Film and Global Branding for the state of Utah.&nbsp\; She is establishing Life Elevated as Utah&rsquo\;s brand promise for all customers and citizens\, persuading people to live work and play in Utah.&nbsp\;&nbsp\; She oversees the state&rsquo\;s tourism marketing strategy\, including the Mighty Five National Parks and the Greatest Snow on Earth.&nbsp\; Tourism is a major part of Utah&rsquo\;s economy\, with tourists spending $7.4 billion last year\, and contributing $960 million in state and local taxes. &nbsp\;<br />\n&nbsp\;<br />\nVicki&rsquo\;s career has been in the persuasion business. &nbsp\;She has held many public and private sector leadership roles.&nbsp\; As vice president of Kennecott Land\, she launched the Daybreak brand\, marketing and community relations strategies.&nbsp\; She was deputy chief of staff and spokesperson for Governor Mike Leavitt\, helping position him as one of the most popular governors in the country.&nbsp\; &nbsp\;She was a key founder of Prosperity 2020\, which is the largest coalition of business leaders ever assembled to advocate for Utah public and higher education.&nbsp\; Vicki helped position Utah to host the 2002 Winter Olympics by organizing the statewide referendum to build Olympic facilities. She is the mother of two adult sons and recently became a grandmother.&nbsp\;<br />\n&nbsp\;<br />\nSt. George Chamber speech topics:<br />\n<span style="font-family:symbol\;">&middot\;&nbsp\;&nbsp\;&nbsp\;&nbsp\;&nbsp\;&nbsp\;&nbsp\;&nbsp\; </span>Establishing Utah&rsquo\;s Life Elevated brand<br />\n<span style="font-family:symbol\;">&middot\;&nbsp\;&nbsp\;&nbsp\;&nbsp\;&nbsp\;&nbsp\;&nbsp\;&nbsp\; </span>Tourism Marketing:&nbsp\; The Mighty Five and The Greatest Snow on Earth<br />\n<span style="font-family:symbol\;">&middot\;&nbsp\;&nbsp\;&nbsp\;&nbsp\;&nbsp\;&nbsp\;&nbsp\;&nbsp\; </span>Impact of the federal shutdown<br />\n<span style="font-family:symbol\;">&middot\;&nbsp\;&nbsp\;&nbsp\;&nbsp\;&nbsp\;&nbsp\;&nbsp\;&nbsp\; </span>St. George Welcome Center&nbsp\;<br />\n
LOCATION:Entrada Clubhouse 2537 W. Entrada Trail
UID:e.1117.4935
SEQUENCE:3
DTSTAMP:20260421T200941Z
URL:https://business.stgeorgechamber.com/events/details/chamber-lunch-featuring-utah-director-of-tourism-film-global-branding-11-13-2013-4935
END:VEVENT

END:VCALENDAR
