BEGIN:VCALENDAR
VERSION:2.0
PRODID:-//ChamberMaster//Event Calendar 2.0//EN
METHOD:PUBLISH
X-PUBLISHED-TTL:P3D
REFRESH-INTERVAL:P3D
CALSCALE:GREGORIAN
BEGIN:VEVENT
DTSTART:20131009T180000Z
DTEND:20131009T190000Z
X-MICROSOFT-CDO-ALLDAYEVENT:FALSE
SUMMARY:Chamber Lunch featuring Santa Clara Mayor Rick Rosenberg
DESCRIPTION:The City can best be characterized as suburban in nature since many city residents commute to work in the City of St. George and other nearby business areas. Santa Clara has a rapidly growing population\, estimated currently at 8\,000 residents. The St. George metro area\, of which Santa Clara is a part\, was recently ranked as the fastest growing community in the United States in a recent U.S. Census report. The City's population has grown nearly 100% since the 2000 census.
X-ALT-DESC;FMTTYPE=text/html:<span class="body"><span style="font-family: times new roman\,times\; font-size: 12pt\;">The City can best be characterized as suburban in nature since many city residents commute to work in the City of St. George and other nearby business areas. Santa Clara has a rapidly growing population\, estimated currently at 8\,000 residents. The St. George metro area\, of which Santa Clara is a part\, was recently ranked as the fastest growing community in the United States in a recent U.S. Census report. The City&rsquo\;s population has grown nearly 100% since the 2000 census.&nbsp\;</span></span><br />\n<br />\n<br />\n
LOCATION:Santa Clara Town Hall 2603 Santa Clara Drive
UID:e.1117.4308
SEQUENCE:3
DTSTAMP:20260421T213649Z
URL:https://business.stgeorgechamber.com/events/details/chamber-lunch-featuring-santa-clara-mayor-rick-rosenberg-10-09-2013-4308
END:VEVENT

END:VCALENDAR
