BEGIN:VCALENDAR
VERSION:2.0
PRODID:-//ChamberMaster//Event Calendar 2.0//EN
METHOD:PUBLISH
X-PUBLISHED-TTL:P3D
REFRESH-INTERVAL:P3D
CALSCALE:GREGORIAN
BEGIN:VEVENT
DTSTART:20131106T184500Z
DTEND:20131106T200000Z
X-MICROSOFT-CDO-ALLDAYEVENT:FALSE
SUMMARY:Chamber Lunch featuring Dixie Business Resource Center
DESCRIPTION:The mission of the Small Business Development Center is to strengthen Utah's economic fabric and quality of life by facilitating the success and prosperity of new and existing business endeavors. In addition to Business Plan counseling\, Loan package assistance\, Marketing analysis\, and Feasibility studies\, we have access to excellent training programs\, seminars and classes.
X-ALT-DESC;FMTTYPE=text/html:<span style="color: rgb(0\, 0\, 0)\; font-family: Arial\, Helvetica\, sans-serif\;">The mission of the Small Business Development Center is to strengthen Utah&#39\;s economic fabric and quality of life by facilitating the success and prosperity of new and existing business endeavors. In addition to Business Plan counseling\, Loan package assistance\, Marketing analysis\, and Feasibility studies\, we have access to excellent training programs\, seminars and classes. &nbsp\;</span>
LOCATION:Dixie State University Gardner Center Ballroom 225 S. 700 E.
UID:e.1117.4934
SEQUENCE:3
DTSTAMP:20260421T183325Z
URL:https://business.stgeorgechamber.com/events/details/chamber-lunch-featuring-dixie-business-resource-center-11-06-2013-4934
END:VEVENT

END:VCALENDAR
