BEGIN:VCALENDAR
VERSION:2.0
PRODID:-//ChamberMaster//Event Calendar 2.0//EN
METHOD:PUBLISH
X-PUBLISHED-TTL:P3D
REFRESH-INTERVAL:P3D
CALSCALE:GREGORIAN
BEGIN:VEVENT
DTSTART:20141203T190000Z
DTEND:20141203T200000Z
X-MICROSOFT-CDO-ALLDAYEVENT:FALSE
SUMMARY:Chamber Lunch
DESCRIPTION:This Wednesday's special holiday luncheon will feature various chamber members sharing their biggest and brightest business accomplishments and their largest disappointments of 2014. Our presenters will share with us what they learned from these milestones. What they will replicate in the future to help continue with the accomplishments. And what they will do moving forward to avoid and overcome the disappointments. \n\nPresenters include:\n\nRyan Gubler: Owner - Platinum Mortgage\; Board Chairman - St George Chamber of Commerce\n\nJimi Kestin: AVP - State Bank of Southern Utah\; Pastor Solomon's Porch\n\nKyle Case: CEO - Huntsman World Senior Games\n\nJosh Bevans: Owner - Design to Print\n\nDian Robinson: Senior Marketing Consultant   Canyon Media\n\nGreg Aldred: Owner   starmaxsolar.com
X-ALT-DESC;FMTTYPE=text/html:<span style="font-size:14px\;"><span style="font-family:arial\;">This Wednesday&rsquo\;s special holiday luncheon will feature various chamber members sharing their biggest and brightest business accomplishments and their largest disappointments of 2014. Our presenters will share with us what they learned from these milestones. What they will replicate in the future to help continue with the accomplishments. And what they will do moving forward to avoid and overcome the disappointments.&nbsp\;<br />\nPresenters include:<br />\nRyan Gubler: Owner - Platinum Mortgage\; Board Chairman - St George Chamber of Commerce<br />\nJimi Kestin: AVP - State Bank of Southern Utah\; Pastor Solomon&rsquo\;s Porch<br />\nKyle Case: CEO - Huntsman World Senior Games<br />\nJosh Bevans: Owner - Design to Print<br />\nDian Robinson: Senior Marketing Consultant &ndash\; Canyon Media<br />\nGreg Aldred: Owner &ndash\; starmaxsolar.com</span></span>
LOCATION:Courtyard by Marriott 185 S. 1470 E. St. George\, Utah
UID:e.1117.6204
SEQUENCE:3
DTSTAMP:20260421T083011Z
URL:https://business.stgeorgechamber.com/events/details/chamber-lunch-12-03-2014-6204
END:VEVENT

END:VCALENDAR
