BEGIN:VCALENDAR
VERSION:2.0
PRODID:-//ChamberMaster//Event Calendar 2.0//EN
METHOD:PUBLISH
X-PUBLISHED-TTL:P3D
REFRESH-INTERVAL:P3D
CALSCALE:GREGORIAN
BEGIN:VEVENT
DTSTART:20150430T000000Z
DTEND:20150430T030000Z
X-MICROSOFT-CDO-ALLDAYEVENT:FALSE
SUMMARY:Chamber Karaoke After Hours
DESCRIPTION:Open Karaoke. Lots of Prizes. Complimentary Food. Great Conversation. Fun Times!\n\n\n\nKARAOKE VOCALS FEATURING\n\nMayor Jon Pike\n\nPam Palermo\n\nSusi Lafaele\n\nAND YOU!\n\n\n\nPlease RSVP to: Pam@StGeorgeChamber.com or (435)628-3287
X-ALT-DESC;FMTTYPE=text/html:<p><span style="font-size:14px\;"><span style="font-family:arial\;"><span style="color:black\;">Open Karaoke. Lots of Prizes. </span><span style="color:black\;">Complimentary Food. Great Conversation. </span><span style="color:black\;">Fun Times!</span><br />\n<br />\n<strong><span style="color:black\;">KARAOKE VOCALS FEATURING</span></strong><br />\n<span style="color:black\;">Mayor Jon Pike</span><br />\n<span style="color:black\;">Pam Palermo</span><br />\n<span style="color:black\;">Susi Lafaele</span><br />\n<strong><span style="color:black\;">AND YOU!</span></strong><br />\n<br />\n<strong><span style="color:black\;">Please RSVP to: <a href="mailto:Pam@StGeorgeChamber.com" linktype="1" shape="rect" target="_blank" track="on"><span style="text-decoration:none\;text-underline:none\;">Pam@StGeorgeChamber.com</span></a> or (435)628-3287</span></strong></span></span></p>\n
LOCATION:Benja's Thai Garden 435 North 1680 East St. George
UID:e.1117.6433
SEQUENCE:3
DTSTAMP:20260420T172817Z
URL:https://business.stgeorgechamber.com/events/details/chamber-karaoke-after-hours-04-29-2015-6433
END:VEVENT

END:VCALENDAR
