BEGIN:VCALENDAR
VERSION:2.0
PRODID:-//ChamberMaster//Event Calendar 2.0//EN
METHOD:PUBLISH
X-PUBLISHED-TTL:P3D
REFRESH-INTERVAL:P3D
CALSCALE:GREGORIAN
BEGIN:VEVENT
DTSTART:20150506T173000Z
DTEND:20150506T190000Z
X-MICROSOFT-CDO-ALLDAYEVENT:FALSE
SUMMARY:Chamber Inspiration Luncheon Fred Adams
DESCRIPTION:This Wednesday's Inspiration Luncheon will feature Utah Shakespeare Festival Founder and Executive Producer\, and Emeritus Director of the Festival Capital Campaign Fred C. Adams.  He will be speaking on how the Utah Shakespeare Festival came about\, and some of the far reaching goals that have been set.  Mr. Adams will also reflect back on the leadership lessons that he has learned over his career with the Utah Shakespeare Festival and will share with the audience some principles that he has learned. \n\nPreviously at the Festival: fifty-two years at the Festival as founder\, producing director\, and executive producer\; as Festival Director of the Festival Capital Campaign is raising money and awareness for the Beverley Taylor Sorenson Center for the Arts\n\nOther Theatres: director of Otello\, Utah Opera\, 1979\; director of The Guardsman\, Pioneer Memorial Theatre\n\nOther Credits: director of nineteen of Shakespeare's plays\, plus The Mikado\, Joseph and the Amazing Technicolor Dreamcoat\, Peter Pan\; author/adaptor of Peter Pan and The Servant of Two Masters \n\nAwards: Utah Theatre Association's Lifetime Service Award (2000)\, the Institute of Outdoor Drama's Mark R. Sumner Award (1998)\, the First Annual Governor's Award in the Arts (1989)\n\nEducation: M.F.A.\, Brigham Young University\; doctoral work\, the University of Utah\; Catholic University\; honorary Ph.D.\, Southern Utah University
X-ALT-DESC;FMTTYPE=text/html:<p class="MsoNormal" style="text-align: justify\;"><span style="color:#000000\;"><span style="font-size:14px\;"><span style="font-family:arial\;"><span style="line-height: normal\;">This Wednesday&#39\;s Inspiration Luncheon will feature Utah Shakespeare Festival&nbsp\;</span>Founder and Executive Producer\, and Emeritus&nbsp\;Director of the Festival Capital Campaign Fred C. Adams. &nbsp\;He will be speaking on how the Utah Shakespeare Festival came about\, and some of the far reaching goals that have been set. &nbsp\;Mr. Adams will also&nbsp\;reflect back on the leadership lessons that he has learned over his career with the Utah Shakespeare Festival and will share with the audience some principles&nbsp\;that he has learned.&nbsp\;</span></span></span></p>\n\n<p><span style="color:#000000\;"><span style="font-size:14px\;"><span style="font-family:arial\;"><u>Previously at the Festival:</u> fifty-two years at the Festival as founder\, producing director\, and executive producer\; as Festival Director of the Festival Capital Campaign is raising money and awareness for the Beverley Taylor Sorenson Center for the Arts</span></span></span></p>\n\n<p><span style="color:#000000\;"><span style="font-size:14px\;"><span style="font-family:arial\;"><u>Other Theatres:</u> director of <em>Otello\, </em>Utah Opera\, 1979\; director of <em>The Guardsman\,</em> Pioneer Memorial Theatre</span></span></span></p>\n\n<p><span style="color:#000000\;"><span style="font-size:14px\;"><span style="font-family:arial\;"><u>Other Credits:</u> director of nineteen of Shakespeare&rsquo\;s plays\, plus <em>The Mikado\, Joseph and the Amazing Technicolor Dreamcoat\, Peter Pan\;</em> author/adaptor of <em>Peter Pan</em> and <em>The Servant of Two Masters </em></span></span></span></p>\n\n<p><span style="color:#000000\;"><span style="font-size:14px\;"><span style="font-family:arial\;"><u>Awards:</u> Utah Theatre Association&#39\;s Lifetime Service Award (2000)\, the Institute of Outdoor Drama&#39\;s Mark R. Sumner Award (1998)\, the First Annual Governor&#39\;s Award in the Arts (1989)</span></span></span></p>\n\n<p><span style="color:#000000\;"><span style="font-size:14px\;"><span style="font-family:arial\;"><u>Education:</u> M.F.A.\, Brigham Young University\; doctoral work\, the University of Utah\; Catholic University\; honorary Ph.D.\, Southern Utah University</span></span></span></p>\n
LOCATION:Courtyard by Marriott 185 S. 1470 E. St. George\, UT
UID:e.1117.6367
SEQUENCE:3
DTSTAMP:20260420T155150Z
URL:https://business.stgeorgechamber.com/events/details/chamber-inspiration-luncheon-fred-adams-05-06-2015-6367
END:VEVENT

END:VCALENDAR
