BEGIN:VCALENDAR
VERSION:2.0
PRODID:-//ChamberMaster//Event Calendar 2.0//EN
METHOD:PUBLISH
X-PUBLISHED-TTL:P3D
REFRESH-INTERVAL:P3D
CALSCALE:GREGORIAN
BEGIN:VEVENT
DTSTART:20150304T183000Z
DTEND:20150304T200000Z
X-MICROSOFT-CDO-ALLDAYEVENT:FALSE
SUMMARY:Chamber Inspiration Luncheon featuring Travis and Lisa Seegmiller
DESCRIPTION:Learn from St. George native Travis Seegmiller\, a successful Washington D.C. lawyer and Wall Street advisor and now Dixie State University professor\, along with his wife Lisa Hopkins Seegmiller\, a Tony Award winning Broadway performer and now Tuacahn star. In next week's Inspirational Luncheon entitled "7 Inspiring Secrets for Professional and Personal Success\," Lisa will share her experiences from the big lights of Broadway to Tuacahn and Travis will share what he learned as a Partner at the law firm rated "most influential" in the nation to teaching law and business at Dixie State University.\n\n About Travis & Lisa\n\nLisa Hopkins and St. George native\, Travis M. Seegmiller\, met at Yale University nearly twenty years ago\, when both were undergraduates. An unlikely couple at first blush --- Lisa was an artsy Theater major with a passion for singing and acting\, and Travis was an aspiring Management Strategy Consultant and attorney with a passion for Investing and Public Policy --- these college sweethearts nevertheless hit-it-off instantly\, proving that opposites really DO attract! After stints in New York City that took Travis to Wall Street and the famed McKinsey & Company global consulting firm\, and that took Lisa to Juilliard\, Broadway\, and quickly to a Tony Award.\n\nWith the birth of their first child six years ago\, Lisa and Travis avowed to "retire" from the bustle of Big City life in order to focus on raising their growing family with cultural roots firmly grounded in the values of the Seegmiller Family Farm in the Washington Fields. Today they are thrilled to live with their 3 children at the site of the original Seegmiller farm\, where Lisa teaches voice and acting privately with frequent exciting roles at Tuacahn Ampitheater\, and where Travis teaches law and business at Dixie State University with frequent exciting advisory roles for local and global clients.
X-ALT-DESC;FMTTYPE=text/html:<p style="color: rgb(0\, 0\, 0)\; font-family: Verdana\, Geneva\, Arial\, Helvetica\, sans-serif\; font-size: 14.6666669845581px\; line-height: normal\;"><span style="font-size:14px\;"><span style="font-family:arial\;">Learn from St. George native Travis Seegmiller\, a successful Washington D.C. lawyer and Wall Street advisor and now Dixie State University professor\, along with his wife Lisa Hopkins Seegmiller\, a Tony Award winning Broadway performer and now Tuacahn star. In next week&#39\;s Inspirational Luncheon entitled &quot\;7 Inspiring Secrets for Professional and Personal Success\,&quot\; Lisa will share her experiences from the big lights of Broadway to Tuacahn and Travis will share what he learned as a Partner at the law firm rated &quot\;most influential&quot\; in the nation to teaching law and business at Dixie State University.</span></span></p>\n\n<p align="center" style="color: rgb(0\, 0\, 0)\; font-family: Verdana\, Geneva\, Arial\, Helvetica\, sans-serif\; font-size: 14.6666669845581px\; line-height: normal\; text-align: center\;"><span style="font-size:14px\;"><span style="font-family:arial\;"><strong style="font-size: 11pt\;">&nbsp\;About&nbsp\;Travis &amp\; Lisa</strong></span></span></p>\n\n<p style="color: rgb(0\, 0\, 0)\; font-family: Verdana\, Geneva\, Arial\, Helvetica\, sans-serif\; font-size: 14.6666669845581px\; line-height: normal\;"><span style="font-family: arial\; font-size: 14px\;">Lisa Hopkins and St. George native\, Travis M. </span>Seegmiller<span style="font-family: arial\; font-size: 14px\;">\, met at Yale University nearly twenty years ago\, when both were undergraduates. An unlikely couple at first blush --- Lisa was an artsy Theater major with a passion for singing and acting\, and Travis was an aspiring Management Strategy Consultant and attorney with a passion for Investing and Public Policy --- these college sweethearts nevertheless hit-it-off instantly\, proving that opposites really DO attract! After stints in New York City that took Travis to Wall Street and the famed </span>McKinsey<span style="font-family: arial\; font-size: 14px\;"> &amp\; Company global consulting firm\, and that took Lisa to Juilliard\, Broadway\, and quickly to a Tony Award.</span></p>\n\n<p align="left" style="color: rgb(0\, 0\, 0)\; font-family: Verdana\, Geneva\, Arial\, Helvetica\, sans-serif\; font-size: 14.6666669845581px\; line-height: normal\;"><span style="font-family: arial\; font-size: 14px\;">With the birth of their first child six years ago\, Lisa and Travis avowed to &quot\;retire&quot\; from the bustle of Big City life in order to focus on raising their growing family with cultural roots firmly grounded in the values of the </span>Seegmiller<span style="font-family: arial\; font-size: 14px\;"> Family Farm in the Washington Fields. Today they are thrilled to live with their 3 children at the site of the original </span>Seegmiller<span style="font-family: arial\; font-size: 14px\;"> farm\, where Lisa teaches voice and acting privately with frequent exciting roles at </span>Tuacahn<span style="font-family: arial\; font-size: 14px\;"> </span>Ampitheater<span style="font-family: arial\; font-size: 14px\;">\, and where Travis teaches law and business at Dixie State University with frequent exciting advisory roles for local and global clients.</span></p>\n
LOCATION:Courtyard by Marriott 185 S. 1470 E. St. George\, UT
UID:e.1117.6292
SEQUENCE:3
DTSTAMP:20260420T205405Z
URL:https://business.stgeorgechamber.com/events/details/chamber-inspiration-luncheon-featuring-travis-and-lisa-seegmiller-03-04-2015-6292
END:VEVENT

END:VCALENDAR
