BEGIN:VCALENDAR
VERSION:2.0
PRODID:-//ChamberMaster//Event Calendar 2.0//EN
METHOD:PUBLISH
X-PUBLISHED-TTL:P3D
REFRESH-INTERVAL:P3D
CALSCALE:GREGORIAN
BEGIN:VEVENT
DTSTART:20160106T183000Z
DTEND:20160106T200000Z
X-MICROSOFT-CDO-ALLDAYEVENT:FALSE
SUMMARY:Chamber Inspiration Luncheon featuring Susan Easton Black and George Durrant
DESCRIPTION:Renowned authors and lecturers Susan Easton-Black and George Durrant will begin a four week lecture series in St. George with a kick-off at the Chamber luncheon on January 6\, 2016 and continue at the St George Tabernacle on Friday evenings at 7 p.m. through January 29th.\n\n\n\nKnown for their extensive research and knowledge of early LDS Church history\, Black was born and reared in Long Beach\, California and was the first woman to teach religious studies at Brigham Young University.  She was also the first woman to receive the highest academic honor presented to a university faculty member--the Karl G. Maeser Distinguished Faculty Lecturer Award.  She has written or co-written more than 60 books and compiled statistical data that filled another 79 volumes.\n\n\n\nBlack's oratory skills and knowledge of her subject have transcended the classroom. She is bombarded with requests for speaking engagements\, giving some 200 of them a year. She has lectured in all 50 states\, and has served as a guide for church cruises and tours in the Mediterranean\, Jerusalem\, Alaska\, Caribbean and Baltics.\n\n\n\nDurrant is a native of American Fork\, Utah and has been a popular author\, instructor acclaimed speaker.  He was professor of religious instruction at BYU for several years\, and it was there he met his wife\, Susan.  He has written or co-authored more than 50 books. He earned his bachelors\, masters and doctorate degrees from BYU. \n\n\n\nDurrant was named Professor of the Yea while teaching Religion at BYU\, and in a student poll was voted as one of the 15 most influential people at the university. He is a motivational speaker and a master story teller.  His pursuits include being a teacher\, author\, artist\, speaker\, missionary and\, at times\, a comedian.  He has influenced and touched the hearts of many people through his life work.
X-ALT-DESC;FMTTYPE=text/html:<p class="MsoNormal" style="text-align: justify\;"><span style="color:#000000\;"><span style="font-size:14px\;"><span style="font-family:arial\;">Renowned authors and lecturers Susan Easton-Black and George Durrant will begin a four week lecture series in St. George with a kick-off at the Chamber luncheon on January 6\, 2016 and continue at the St George Tabernacle on Friday evenings at 7 p.m. through January 29th.<br />\n<br />\nKnown for their extensive research and knowledge of early LDS Church history\,&nbsp\;Black was born and reared in Long Beach\, California and was the first woman to teach religious studies at Brigham Young University. &nbsp\;She was also the first woman to receive the highest academic honor presented to a university faculty member--the Karl G. Maeser Distinguished Faculty Lecturer Award. &nbsp\;She has written or co-written more than 60 books and compiled statistical data that filled another 79 volumes.<br />\n<br />\nBlack&#39\;s oratory skills and knowledge of her subject have transcended the classroom. She is bombarded with requests for speaking engagements\, giving some 200 of them a year. She has lectured in all 50 states\, and has served as a guide for church cruises and tours in the Mediterranean\, Jerusalem\, Alaska\, Caribbean and Baltics.<br />\n<br />\nDurrant is a native of American Fork\, Utah and has been a popular author\, instructor acclaimed speaker. &nbsp\;He was professor of religious instruction at BYU for several years\, and it was there he met his wife\, Susan. &nbsp\;He has written or co-authored more than 50 books. He earned his bachelors\, masters and doctorate degrees from BYU.&nbsp\;<br />\n<br />\nDurrant was named Professor of the Yea while teaching Religion at BYU\, and in a student poll was voted as one of the 15 most influential people at the university. He is a motivational speaker and a master story teller. &nbsp\;His pursuits include being a teacher\, author\, artist\, speaker\, missionary and\, at times\, a comedian. &nbsp\;He has influenced and touched the hearts of many people through his life work. &nbsp\; &nbsp\;</span></span></span></p>\n\n<p class="MsoNormal" style="text-align: justify\;">&nbsp\;</p>\n
LOCATION:Santa Clara Town Hall 2603 Santa Clara Drive Santa Clara\, UT
UID:e.1117.7387
SEQUENCE:3
DTSTAMP:20260420T013323Z
URL:https://business.stgeorgechamber.com/events/details/chamber-inspiration-luncheon-featuring-susan-easton-black-and-george-durrant-01-06-2016-7387
END:VEVENT

END:VCALENDAR
