BEGIN:VCALENDAR
VERSION:2.0
PRODID:-//ChamberMaster//Event Calendar 2.0//EN
METHOD:PUBLISH
X-PUBLISHED-TTL:P3D
REFRESH-INTERVAL:P3D
CALSCALE:GREGORIAN
BEGIN:VEVENT
DTSTART:20150107T183000Z
DTEND:20150107T200000Z
X-MICROSOFT-CDO-ALLDAYEVENT:FALSE
SUMMARY:Chamber Inspiration Luncheon featuring Stampin Up! CEO Shelli Gardner
DESCRIPTION:Shelli Gardner has led Stampin' Up! through more than two decades of growth and challenge.  With its manufacturing facility in Kanab\, Utah\, corporate office and distribution center in Riverton\, Utah\, Stampin' Up! employs over 500 employees worldwide.\n\n \n\nThe company's offerings include a multitude of paper crafting products\, and the company operates in 10 countries with tens of thousands of demonstrators who help others enjoy creativity.\n\n \n\nIn addition to Stampin' Up!\, Shelli's entrepreneurial spirit and desire to help others led to the building of Brick Canvas\, a beautiful facility located at Thanksgiving Point in Lehi\, Utah.  Brick Canvas houses unique studios that offer services designed to help people improve their health and well-being.\n\n \n\nWhile Shelli has certainly experienced success in the business world\, she is most grateful for the opportunities she has as a wife\, mother\, and grandmother.  She and her sweetheart of 34 years\, Sterling\, have five daughters and sons-in-law and 16 grandchildren.\n\n \n\nShelli will share a few of the lessons she's learned and values she believes in from her experience as a business leader for over 25 years.\nStatistics\n\n\n	Stampin' Up!\, a 23-year-old\, multimillion-dollar\, direct-sales company\, offers an exclusive line of decorative rubber stamp sets and accessories for home d cor\, greeting cards\, craft projects and scrapbooking. \n	Based in Utah\, Stampin' Up! operates two state-of-the-art facilities including a 300\,000-square-foot home office in Riverton\, Utah\, a southern suburb of Salt Lake City\, and an 80\,000-square foot manufacturing plant in Kanab\, Utah.\n	Stampin' Up! introduces more than 100 new stamp sets and accessories annually in its full-color US catalog\, and now offers products in the Pacific Rim\, Europe\, and Canada.\n	Its products are not sold in stores\, but may be purchased at home workshops or through a network of independent sales consultants called Stampin' Up! "demonstrators." Currently\, more than 45\,000 demonstrators from all 50 US states\, Australia\, New Zealand\, France\, Germany\, the United Kingdom\,  and Canada teach the art of stamping and share their enthusiasm for stamping\, scrapbooking\, and card making.\n	States with the highest number of Stampin' Up! demonstrators include Texas\, Illinois\, Wisconsin\, and Michigan.\n	Stampin' Up!'s line of exclusive decorative rubber stamps are sold in coordinating sets. \n	Stampin' Up! accessories including papers\, stamp pads\, ribbons\, metal embellishments\, and markers are offered in coordinating color families.\n	From 2000 through 2005\, the Utah 100 Group listed the company as one of Utah's fastest growing companies.\n	Shelli Gardner\, Stampin' Up!'s CEO and cofounder\, received the prestigious Utah Ernst & Young Entrepreneur of the Year Award in 1999 and was listed as one of Utah's 100 Most Influential People by Utah Business Magazine in 2004\, and one of 30 Women to Watch in 2008.\n	Stampin' Up! is a major employer in Kane County\, Utah\, where both its manufacturing plants are located.
X-ALT-DESC;FMTTYPE=text/html:<p><span style="font-size:14px\;"><span style="font-family:arial\;">Shelli Gardner has led Stampin&rsquo\; Up! through more than two decades of growth and challenge.&nbsp\; With its manufacturing facility in Kanab\, Utah\, corporate office and distribution center in Riverton\, Utah\, Stampin&rsquo\; Up! employs over 500 employees worldwide.<br />\n&nbsp\;<br />\nThe company&rsquo\;s offerings include a multitude of paper crafting products\, and the company operates in 10 countries with tens of thousands of demonstrators who help others enjoy creativity.<br />\n&nbsp\;<br />\nIn addition to Stampin&rsquo\; Up!\, Shelli&rsquo\;s entrepreneurial spirit and desire to help others led to the building of Brick Canvas\, a beautiful facility located at Thanksgiving Point in Lehi\, Utah.&nbsp\; Brick Canvas houses unique studios that offer services designed to help people improve their health and well-being.<br />\n&nbsp\;<br />\nWhile Shelli has certainly experienced success in the business world\, she is most grateful for the opportunities she has as a wife\, mother\, and grandmother.&nbsp\; She and her sweetheart of 34 years\, Sterling\, have five daughters and sons-in-law and 16 grandchildren.<br />\n&nbsp\;</span></span><br />\n<span style="font-family:garamond\,serif\;"><span style="font-size:11.0pt\;"><span style="font-size:14px\;"><span style="font-family:arial\;">Shelli will share a few of the lessons she&rsquo\;s learned and values she believes in from her experience as a business leader for over 25 years.</span></span></span></span></p>\n<u><strong>Statistics</strong></u>\n\n<ul style="color: rgb(132\, 132\, 132)\; font-family: Verdana\, Geneva\, Arial\, Helvetica\, sans-serif\; font-size: 11px\; line-height: normal\;">\n	<li>Stampin&#39\; Up!\, a 23-year-old\, multimillion-dollar\, direct-sales company\, offers an exclusive line of decorative rubber stamp sets and accessories for home d&eacute\;cor\, greeting cards\, craft projects and scrapbooking.&nbsp\;</li>\n	<li>Based in Utah\, Stampin&#39\; Up! operates two state-of-the-art facilities including a 300\,000-square-foot home office in Riverton\, Utah\, a southern suburb of Salt Lake City\, and&nbsp\;an 80\,000-square foot&nbsp\;manufacturing plant in Kanab\, Utah.</li>\n	<li>Stampin&#39\; Up! introduces more than 100 new stamp sets and accessories annually in its full-color US catalog\, and now offers products in the Pacific Rim\, Europe\, and Canada.</li>\n	<li>Its products are not sold in stores\, but may be purchased at home workshops or through a network of independent sales consultants called Stampin&#39\; Up! &quot\;demonstrators.&quot\; Currently\, more than 45\,000 demonstrators from all 50 US states\, Australia\, New Zealand\, France\, Germany\, the United Kingdom\,&nbsp\; and Canada teach the art of stamping and share their enthusiasm for stamping\, scrapbooking\, and card making.</li>\n	<li>States with the highest number of Stampin&#39\; Up! demonstrators include Texas\, Illinois\, Wisconsin\, and Michigan.</li>\n	<li>Stampin&#39\; Up!&#39\;s line of exclusive decorative rubber stamps are sold in coordinating sets.&nbsp\;</li>\n	<li>Stampin&#39\; Up! accessories including papers\, stamp pads\, ribbons\, metal embellishments\, and markers are offered in coordinating color families.</li>\n	<li>From 2000 through 2005\, the Utah 100 Group listed the company as one of Utah&#39\;s fastest growing companies.</li>\n	<li>Shelli Gardner\, Stampin&#39\; Up!&#39\;s CEO and cofounder\, received the prestigious Utah Ernst &amp\; Young Entrepreneur of the Year Award in 1999 and was listed as one of Utah&#39\;s 100 Most Influential People by&nbsp\;<em>Utah Business Magazine&nbsp\;</em>in 2004\, and one of 30 Women to Watch in 2008.</li>\n	<li>Stampin&#39\; Up! is a major employer in Kane County\, Utah\, where both its manufacturing plants are located.</li>\n</ul>\n
LOCATION:Dixie State University Gardner Center Ballroom 225 S. 700 E. St. George\, UT
UID:e.1117.6232
SEQUENCE:3
DTSTAMP:20260420T221046Z
URL:https://business.stgeorgechamber.com/events/details/chamber-inspiration-luncheon-featuring-stampin-up-ceo-shelli-gardner-01-07-2015-6232
END:VEVENT

END:VCALENDAR
