BEGIN:VCALENDAR
VERSION:2.0
PRODID:-//ChamberMaster//Event Calendar 2.0//EN
METHOD:PUBLISH
X-PUBLISHED-TTL:P3D
REFRESH-INTERVAL:P3D
CALSCALE:GREGORIAN
BEGIN:VEVENT
DTSTART:20140903T173000Z
DTEND:20140903T190000Z
X-MICROSOFT-CDO-ALLDAYEVENT:FALSE
SUMMARY:Chamber Inspiration Luncheon featuring St. George Mayor Jon Pike
DESCRIPTION:We'll hear from City of St. George Mayor Jon Pike who will be sharing his vision for the future and state of the city report.  He will touch on the following topics:\n\n\n\n          His personal background and experience.\n\n          A State of the City Report   Including updates on city information services\, roads and project updates\, an update on the parks\, the Electric Theater\, and SwitchPoint.\n\n          The progress that has been made on city branding and strategic planning.\n\n          Information on the Proposed County Recreation\, Arts\, and Parks Tax.\n\n\n\nJon Pike was raised in Salt Lake City and received a bachelor's degree in finance from the University of Utah and an MBA from Westminster College. Jon has worked in several positions with Intermountain Healthcare since 1990   and since 1995 here in St. George.\n\n\n\nOne of the highlights of Jon's career has been working as project manager for the planning and construction of Dixie Regional Medical Center at River Road\, which opened in 2003. He currently works as the regional operations director for SelectHealth   the health insurance division of Intermountain Healthcare.\n\n\n\nIn 2007 Jon was elected to the St. George City Council and in 2013 he was elected as Mayor of St. George. He serves on the boards of Dixie State University\, the Children's Justice Center\, Dixie Applied Technology College\, and as chair of the Fifth District Judicial Nominating Commission.\n\n\n\nJon loves singing\, playing the piano\, organ\, and guitar\, as well as water and snow skiing\, motorcycling\, and walking or biking on St. George's many trails. Jon and his wife Kristy have five children.
X-ALT-DESC;FMTTYPE=text/html:<p><span style="font-size:14px\;"><span style="font-family:arial\;">We&#39\;ll hear from City of St. George&nbsp\;Mayor Jon Pike who will be sharing his vision for the future and state of the city report. &nbsp\;He will touch on the following topics:<br />\n<br />\n&middot\;&nbsp\;&nbsp\;&nbsp\;&nbsp\;&nbsp\;&nbsp\;&nbsp\;&nbsp\; His personal background and experience.<br />\n&middot\;&nbsp\;&nbsp\;&nbsp\;&nbsp\;&nbsp\;&nbsp\;&nbsp\;&nbsp\; A State of the City Report &ndash\; Including updates on city information services\, roads and project updates\, an update on the parks\, the Electric Theater\, and SwitchPoint.<br />\n&middot\;&nbsp\;&nbsp\;&nbsp\;&nbsp\;&nbsp\;&nbsp\;&nbsp\;&nbsp\; The progress that has been made on city branding and strategic planning.<br />\n&middot\;&nbsp\;&nbsp\;&nbsp\;&nbsp\;&nbsp\;&nbsp\;&nbsp\;&nbsp\; Information on the Proposed County Recreation\, Arts\, and Parks Tax.<br />\n<br />\nJon Pike was raised in Salt Lake City and received a bachelor&#39\;s degree in finance from the University of Utah and an MBA from Westminster College. Jon has worked in several positions with Intermountain Healthcare since 1990 &ndash\; and since 1995 here in St. George.<br />\n<br />\nOne of the highlights of Jon&#39\;s career has been working as project manager for the planning and construction of Dixie Regional Medical Center at River Road\, which opened in 2003. He currently works as the regional operations director for SelectHealth &ndash\; the health insurance division of Intermountain Healthcare.<br />\n<br />\nIn 2007 Jon was elected to the St. George City Council and in 2013 he was elected as Mayor of St. George. He serves on the boards of Dixie State University\, the Children&#39\;s Justice Center\, Dixie Applied Technology College\, and as chair of the Fifth District Judicial Nominating Commission.<br />\n<br />\nJon loves singing\, playing the piano\, organ\, and guitar\, as well as water and snow skiing\, motorcycling\, and walking or biking on St. George&#39\;s many trails. Jon and his wife Kristy have five children. &nbsp\;</span></span></p>\n
LOCATION:Courtyard by Marriott 185 S. 1470 E. St. George\, UT
UID:e.1117.5906
SEQUENCE:3
DTSTAMP:20260421T043255Z
URL:https://business.stgeorgechamber.com/events/details/chamber-inspiration-luncheon-featuring-st-george-mayor-jon-pike-09-03-2014-5906
END:VEVENT

END:VCALENDAR
