BEGIN:VCALENDAR
VERSION:2.0
PRODID:-//ChamberMaster//Event Calendar 2.0//EN
METHOD:PUBLISH
X-PUBLISHED-TTL:P3D
REFRESH-INTERVAL:P3D
CALSCALE:GREGORIAN
BEGIN:VEVENT
DTSTART:20140806T173000Z
DTEND:20140806T190000Z
X-MICROSOFT-CDO-ALLDAYEVENT:FALSE
SUMMARY:Chamber Inspiration Luncheon featuring Soltis Investment Advisors CEO
DESCRIPTION:Hal Anderson was appointed as President and Chief Executive Officer of Soltis in 2013. Prior to this\, he served as Vice President\, Chief Financial Officer for the firm since 1993. He also serves as the firm's Chief Investment Officer. His professional career includes positions with General Motors Acceptance Corporation Executive Office\, and Michigan National Corporation. He has also provided management consulting for several Utah-based companies.\n\n \n\nHal received a B.A. in International Relations from Brigham Young University (BYU) and an MBA from BYU's Marriott School of Management. Hal has served as a United States Army Reserve Officer and has served on the BYU Marriott School of Management Alumni Board.
X-ALT-DESC;FMTTYPE=text/html:Hal Anderson was appointed as President and Chief Executive Officer of Soltis in 2013. Prior to this\, he served as Vice President\, Chief Financial Officer for the firm since 1993. He also serves as the firm&rsquo\;s Chief Investment Officer. His professional career includes positions with General Motors Acceptance Corporation Executive Office\, and Michigan National Corporation. He has also provided management consulting for several Utah-based companies.<br />\n&nbsp\;<br />\nHal received a B.A. in International Relations from Brigham Young University (BYU) and an MBA from BYU&rsquo\;s Marriott School of Management. Hal has served as a United States Army Reserve Officer and has served on the BYU Marriott School of Management Alumni Board.
LOCATION:Courtyard by Marriott
UID:e.1117.5313
SEQUENCE:3
DTSTAMP:20260421T055619Z
URL:https://business.stgeorgechamber.com/events/details/chamber-inspiration-luncheon-featuring-soltis-investment-advisors-ceo-08-06-2014-5313
END:VEVENT

END:VCALENDAR
