BEGIN:VCALENDAR
VERSION:2.0
PRODID:-//ChamberMaster//Event Calendar 2.0//EN
METHOD:PUBLISH
X-PUBLISHED-TTL:P3D
REFRESH-INTERVAL:P3D
CALSCALE:GREGORIAN
BEGIN:VEVENT
DTSTART:20151104T183000Z
DTEND:20151104T200000Z
X-MICROSOFT-CDO-ALLDAYEVENT:FALSE
SUMMARY:Chamber Inspiration Luncheon featuring Ruby's Inn General Manager Lance Syrett
DESCRIPTION:This month's inspiration luncheon speaker is Lance Syrett.  Lance is the current General Manager at historic Ruby's Inn at Bryce Canyon City & the Bryce View Lodge and the new Best Western Bryce Canyon Grand Hotel.  His remarks will include the story of Ruby's Inn\, how it's survived for so many years (including during the government shutdown in 2013 and our most recent recession)\, what lessons he has learned\, both good and bad.\n\n\n\nRuby's Inn is a fourth generation family owned business and will celebrate their Centennial in 2016.  Lance has been the General Manager since 2007.  He is a 2003 graduate of Southern Utah University with a bachelors in Economics and Finance.  Active in the industry\, he currently serves on the Governor's Tourism Development board\, is a past president of the Utah Hotel and Lodging Association\, and is the Chairman of the Garfield County Office of Tourism Advisory Board.  He currently lives in Tropic with his wife and four kids.     \n\n\n\nHistory of Ruby's Inn\n\n \n\nIn 1916\, Reuben C. (Ruby) Syrett brought his family to the wilds of Southern Utah\, establishing a ranch near the present site of Ruby's Inn. A few weeks after his arrival\, another nearby rancher told Ruby of the canyon called Bryce. Ruby and his family made a Sunday visit to the canyon rim. They were so impressed by what they saw that they not only took full advantage to tell people of the canyon's beauties\, but they also became hosts to its visitors. By 1919 they had obtained permission from the state to build a lodge\, the "Tourist Rest"\, near the brink of the canyon.\n\nIn 1923\, when Bryce Canyon became a National Monument\, Ruby moved his "Tourist Rest"\, to the location of his ranch and named it Ruby's Inn. The Post Office established services at the inn and still serves the area throughout the year.\n\nRuby's reputation grew as the National Monument grew to a National Park\, and soon Ruby's Inn became a large business operation. What started with tent houses and a place to serve meals\, paved the way for the modern facilities which today serve the tourists at Bryce Canyon\, providing all the traveler needs to make a stay in the Bryce Canyon area a trip to remember.\n\nEnthusiasm and love for the Bryce area carried over to Ruby's son Carl. Today the same western hospitality and friendly service is carried on by Carl's children and grandchildren\, who cheerfully welcome you to Ruby's Inn.
X-ALT-DESC;FMTTYPE=text/html:<p style="margin: 0px 0px 20px\; padding: 0px\; border: 0px rgb(209\, 209\, 209)\; vertical-align: baseline\; color: rgb(80\, 80\, 80)\; font-family: 'Open Sans'\; line-height: 20.15px\;"><span style="color:#000000\;"><span style="font-size:14px\;"><span style="font-family:arial\;"><span class="body-copy" style="margin: 0px\; padding: 0px\; border: 0px rgb(209\, 209\, 209)\; vertical-align: baseline\;">This month&#39\;s inspiration luncheon speaker is Lance Syrett. &nbsp\;Lance is the current General Manager at historic Ruby&#39\;s Inn at Bryce Canyon City&nbsp\;&amp\; the Bryce View Lodge and the new Best Western Bryce Canyon Grand Hotel. &nbsp\;</span>His remarks will include&nbsp\;the story of Ruby&rsquo\;s Inn\, how it&rsquo\;s survived for so many years (including during the government shutdown in 2013 and our most recent recession)\, what lessons he has learned\, both good and bad.<br />\n<br />\nRuby&rsquo\;s Inn is a fourth generation family owned business and will celebrate their Centennial in 2016.&nbsp\; Lance has been the General Manager since 2007.&nbsp\; He is a 2003 graduate of Southern Utah University with a bachelors in Economics and Finance. &nbsp\;Active in the&nbsp\;industry\, he&nbsp\;currently serves on the Governor&rsquo\;s Tourism Development board\, is a past president of the Utah Hotel and Lodging Association\, and is the Chairman of the Garfield County Office of Tourism Advisory Board.&nbsp\; He currently lives in Tropic with his wife and four kids. &nbsp\; &nbsp\;&nbsp\;</span></span></span><br />\n<br />\n<span style="color:#000000\;"><span style="font-size:14px\;"><span style="font-family:arial\;"><strong><u>History of Ruby&#39\;s Inn</u></strong><br />\n<span class="body-copy" style="margin: 0px\; padding: 0px\; border: 0px rgb(209\, 209\, 209)\; vertical-align: baseline\;">&nbsp\;<br />\nIn 1916\, Reuben C. (Ruby) Syrett&nbsp\;brought his family to the wilds of Southern Utah\, establishing a ranch near the present site of Ruby&rsquo\;s Inn. A few weeks after his arrival\, another nearby rancher told Ruby of the canyon called Bryce. Ruby and his family made a Sunday visit to the canyon rim. They were so impressed by what they saw that they not only took full advantage to tell people of the canyon&rsquo\;s beauties\, but they also became hosts to its visitors. By 1919 they had obtained permission from the state to build a lodge\,&nbsp\;the &ldquo\;Tourist Rest&rdquo\;\, near the brink of the canyon.</span></span></span></span></p>\n\n<p style="margin: 0px 0px 20px\; padding: 0px\; border: 0px rgb(209\, 209\, 209)\; vertical-align: baseline\; color: rgb(80\, 80\, 80)\; font-family: 'Open Sans'\; line-height: 20.15px\;"><span style="font-size:14px\;"><span style="font-family:arial\;"><span style="color:#000000\;">In 1923\, when Bryce Canyon</span><span style="color:#000000\;">&nbsp\;became a National Monument\, Ruby moved his &ldquo\;Tourist Rest&rdquo\;\, to the location of his ranch and named it Ruby&rsquo\;s Inn. The Post Office established services at the inn and still serves the area throughout the year.</span></span></span></p>\n\n<p style="margin: 0px 0px 20px\; padding: 0px\; border: 0px rgb(209\, 209\, 209)\; vertical-align: baseline\; color: rgb(80\, 80\, 80)\; font-family: 'Open Sans'\; line-height: 20.15px\;"><span style="color:#000000\;"><span style="font-size:14px\;"><span style="font-family:arial\;">Ruby&rsquo\;s reputation grew as the National Monument grew to a National Park\, and soon Ruby&rsquo\;s Inn became a large business operation. What started with tent houses and a place to serve meals\, paved the way for the modern facilities which today serve the tourists at Bryce Canyon\, providing all the traveler needs to make a stay in the Bryce Canyon area a trip to remember.</span></span></span></p>\n\n<p style="margin: 0px 0px 20px\; padding: 0px\; border: 0px rgb(209\, 209\, 209)\; vertical-align: baseline\; color: rgb(80\, 80\, 80)\; font-family: 'Open Sans'\; line-height: 20.15px\;"><span style="color:#000000\;"><span style="font-size:14px\;"><span style="font-family:arial\;">Enthusiasm and love for the Bryce area carried over to Ruby&rsquo\;s son Carl. Today the same western hospitality and friendly service is carried on by Carl&rsquo\;s children and grandchildren\, who cheerfully welcome you to Ruby&rsquo\;s Inn.</span></span></span></p>\n
LOCATION:Courtyard by Marriott 185 S. 1470 E. St. George\, UT
UID:e.1117.7271
SEQUENCE:3
DTSTAMP:20260420T065032Z
URL:https://business.stgeorgechamber.com/events/details/chamber-inspiration-luncheon-featuring-ruby-s-inn-general-manager-lance-syrett-11-04-2015-7271
END:VEVENT

END:VCALENDAR
