BEGIN:VCALENDAR
VERSION:2.0
PRODID:-//ChamberMaster//Event Calendar 2.0//EN
METHOD:PUBLISH
X-PUBLISHED-TTL:P3D
REFRESH-INTERVAL:P3D
CALSCALE:GREGORIAN
BEGIN:VEVENT
DTSTART:20150902T173000Z
DTEND:20150902T190000Z
X-MICROSOFT-CDO-ALLDAYEVENT:FALSE
SUMMARY:Chamber Inspiration Luncheon featuring Ronald McDonald House CEO
DESCRIPTION:This Wednesday's Inspiration Luncheon will feature Carrie Romano\, CEO of Utah's Ronald McDonald House.\n\nCarrie Romano has served as the Executive Director for Ronald McDonald House Charities  (RMHC) of the Intermountain Area since 2010.  Ronald McDonald House Charities provides a temporary home-away-from-home that serves and sustains families of seriously ill or injured children receiving treatment at area hospitals.  Under Carrie's leadership\, the charity has completed a $12 million expansion with a new Ronald McDonald House on South Temple\, and Ronald McDonald Family Room at Primary Children's Hospital. This expansion has increased the number of pediatric patient families positively impacted by RMHC by 400%.\n\n\n\nPrior to joining Ronald McDonald House Charities\, Carrie served as the Chief Development Officer and Capital Campaign Manager for the YWCA Salt Lake City.  As Capital Campaign Manager\, Carrie led efforts to successfully secure $20.5 million in capital funding to complete the YWCA's Campus Expansion.  Prior to her work at the YWCA\, Ms. Romano served in a variety of direct service and management positions in government and nonprofit agencies. Carrie has more than 20 years of nonprofit organizational leadership\, board\, executive and financial management and fundraising experience.  Carrie was recognized by Utah Business Magazine as a 2015 CEO of the Year.
X-ALT-DESC;FMTTYPE=text/html:<p><span style="color:#000000\;"><span style="font-size:14px\;"><span style="font-family:arial\;">This Wednesday&#39\;s Inspiration Luncheon will feature Carrie Romano\, CEO of Utah&#39\;s Ronald McDonald House.<br />\nCarrie Romano has served as the Executive Director for Ronald McDonald House Charities<sup>&reg\;</sup> (RMHC) of the Intermountain Area since 2010.&nbsp\; Ronald McDonald House Charities provides a temporary home-away-from-home that serves and sustains families of seriously ill or injured children receiving treatment at area hospitals. &nbsp\;Under Carrie&rsquo\;s leadership\, the charity has completed a $12 million expansion with a new Ronald McDonald House on South Temple\, and Ronald McDonald Family Room at Primary Children&rsquo\;s Hospital. This expansion has increased the number of pediatric patient families positively impacted by RMHC by 400%.<br />\n<br />\nPrior to joining Ronald McDonald House Charities\, Carrie served as the Chief Development Officer and Capital Campaign Manager for the YWCA Salt Lake City.&nbsp\; As Capital Campaign Manager\, Carrie led efforts to successfully secure $20.5 million in capital funding to complete the YWCA&rsquo\;s Campus Expansion.&nbsp\; Prior to her work at the YWCA\, Ms. Romano served in a variety of direct service and management positions in government and nonprofit agencies. Carrie has more than 20 years of nonprofit organizational leadership\, board\, executive and financial management and fundraising experience.&nbsp\; Carrie was recognized by Utah Business Magazine as a 2015 CEO of the Year.&nbsp\;</span></span></span></p>\n
LOCATION:Courtyard by Marriott 185 S. 1470 E. St. George\, UT
UID:e.1117.6989
SEQUENCE:3
DTSTAMP:20260420T085226Z
URL:https://business.stgeorgechamber.com/events/details/chamber-inspiration-luncheon-featuring-ronald-mcdonald-house-ceo-09-02-2015-6989
END:VEVENT

END:VCALENDAR
