BEGIN:VCALENDAR
VERSION:2.0
PRODID:-//ChamberMaster//Event Calendar 2.0//EN
METHOD:PUBLISH
X-PUBLISHED-TTL:P3D
REFRESH-INTERVAL:P3D
CALSCALE:GREGORIAN
BEGIN:VEVENT
DTSTART:20141001T173000Z
DTEND:20141001T190000Z
X-MICROSOFT-CDO-ALLDAYEVENT:FALSE
SUMMARY:Chamber Inspiration Luncheon featuring Paul Gustavson
DESCRIPTION:One of the world's leading experts in organizational behavior\, Paul Gustavson and author of his new book\, A Team of Leaders\, will be sharing his leadership insights during our October luncheon.\n\n\n\nPAUL GUSTAVSON is a former chair of the Marriott School of Management's OB/HR Advisory Board and founder of OPD\, which helps organizations around the world create and sustain high-performance teams. STEWART LIFF is a human resources and visual management expert and the author of Managing Government Employees.
X-ALT-DESC;FMTTYPE=text/html:<p><span style="font-family:arial\;"><span style="font-size:14px\;">One of the world&#39\;s leading experts in organizational behavior\, <strong style="color:#000000">Paul Gustavson</strong> and author of his new book\, <strong style="color:#000000">A Team of Leaders</strong>\, will be sharing his leadership insights during our <span class="aBn" data-term="goog_983396321" tabindex="0">October </span>luncheon.<br />\n<br />\n<span style="color: rgb(85\, 85\, 85)\; line-height: normal\;">PAUL GUSTAVSON is a former chair of the Marriott School of Management&#39\;s OB/HR Advisory Board and founder of OPD\, which helps organizations around the world create and sustain high-performance teams. STEWART LIFF is a human resources and visual management expert and the author of&nbsp\;</span><i style="color: rgb(85\, 85\, 85)\; font-family: Arial\, Verdana\, sans-serif\; font-size: 14px\; line-height: normal\;">Managing Government Employees.</i></span></span></p>\n
LOCATION:Best Western Abbey Inn 1129 S. Bluff Street\, St. George\, UT
UID:e.1117.5907
SEQUENCE:3
DTSTAMP:20260421T042908Z
URL:https://business.stgeorgechamber.com/events/details/chamber-inspiration-luncheon-featuring-paul-gustavson-10-01-2014-5907
END:VEVENT

END:VCALENDAR
