BEGIN:VCALENDAR
VERSION:2.0
PRODID:-//ChamberMaster//Event Calendar 2.0//EN
METHOD:PUBLISH
X-PUBLISHED-TTL:P3D
REFRESH-INTERVAL:P3D
CALSCALE:GREGORIAN
BEGIN:VEVENT
DTSTART:20150805T173000Z
DTEND:20150805T190000Z
X-MICROSOFT-CDO-ALLDAYEVENT:FALSE
SUMMARY:Chamber Inspiration Luncheon featuring Miss Utah 2015
DESCRIPTION:This Wednesday's Inspiration Luncheon will feature Miss Utah 2015 Krissia Beatty.\n\n\n\nAlthough born in Cedar\, Krissia considers St. George her home. After graduating from Desert Hills High School\, Krissia attended Dixie State University on academic and leadership scholarships. While at Dixie\, Krissia was involved with many programs and organizations including DSU Ambassadors\, DECA Club President\, Public Events Chair for the Dixie State University Student Association\, and was Miss Dixie in 2013. Although taking this year off from school\, she is excited to return to Dixie next fall to complete her Bachelors in Human Communication\, and advance towards her goal of obtaining a PhD in Organizational Communication and Leadership. Krissia was blessed with the opportunity of becoming Miss Utah one month ago\, and is now preparing to compete in the Miss America Pageant\, held in Atlantic City NJ this coming September! \n\n\n\nKrissia will speak on her diagnosis of Spina Bifida\, her involvement in the Miss Utah Organization and her journey to the crown\, as well as her platform and current preparation for Miss America.
X-ALT-DESC;FMTTYPE=text/html:<p><span style="color:#000000\;"><span style="font-family:arial\;"><span style="font-size:14px\;">This Wednesday&#39\;s Inspiration Luncheon will feature Miss Utah 2015 Krissia Beatty.<br />\n<br />\nAlthough born in Cedar\, Krissia considers St. George her home. After graduating from Desert Hills High School\, Krissia attended Dixie State University on academic and leadership scholarships. While at Dixie\, Krissia was involved with many programs and organizations including DSU Ambassadors\, DECA Club President\, Public Events Chair for the Dixie State University Student Association\, and was Miss Dixie in 2013. Although taking this year off from school\, she is excited to return to Dixie next fall to complete her Bachelors in Human Communication\,&nbsp\;and advance towards her goal of obtaining a PhD in Organizational Communication and Leadership. Krissia was blessed with the opportunity of becoming Miss Utah one month ago\, and is now&nbsp\;preparing to compete in the Miss America Pageant\, held in Atlantic City NJ this coming September!&nbsp\;</span></span><br />\n<br />\n<span style="font-size:14px\;"><span style="font-family:arial\;">Krissia will speak on her diagnosis of&nbsp\;Spina Bifida\, her involvement in the Miss Utah Organization and her&nbsp\;journey to the crown\, as well as her platform and current preparation for Miss America.</span></span></span></p>\n
LOCATION:Courtyard by Marriott 185 S. 1470 E. St. George\, UT
UID:e.1117.6986
SEQUENCE:3
DTSTAMP:20260420T121608Z
URL:https://business.stgeorgechamber.com/events/details/chamber-inspiration-luncheon-featuring-miss-utah-2015-08-05-2015-6986
END:VEVENT

END:VCALENDAR
