BEGIN:VCALENDAR
VERSION:2.0
PRODID:-//ChamberMaster//Event Calendar 2.0//EN
METHOD:PUBLISH
X-PUBLISHED-TTL:P3D
REFRESH-INTERVAL:P3D
CALSCALE:GREGORIAN
BEGIN:VEVENT
DTSTART:20160803T173000Z
DTEND:20160803T190000Z
X-MICROSOFT-CDO-ALLDAYEVENT:FALSE
SUMMARY:Chamber Inspiration Luncheon featuring Mandi Gubler
DESCRIPTION:Mandi Gubler started her blog Vintage Revivals on spray paint fumes and blind enthusiasm in July 2010. Little did she know what it would turn into. Vintage Revivals has since amassed more than 250k monthly visitors\, 51k followers on Instagram\, and has been named Better Homes and Garden's Best DIY/Decorating Blog and has been featured over 25 times in magazines such as HGTV\, DIY\, Better Homes and Gardens and People. Mandi describes her style as Fearless and loves to push the boundaries of everything! She lives in St. George with her husband Courtney\, 2 daughters 12 & 7 and a 6 month old son.
X-ALT-DESC;FMTTYPE=text/html:<p><span style="color:#000000\;">Mandi Gubler started her blog Vintage Revivals on spray paint fumes and blind enthusiasm in July 2010. Little did she know what it would turn into. Vintage Revivals has since amassed more than 250k monthly visitors\, 51k followers on Instagram\, and has been named Better Homes and Garden&#39\;s Best DIY/Decorating Blog and has been featured over 25 times in magazines such as HGTV\, DIY\, Better Homes and Gardens and People. Mandi describes her style as Fearless and loves to push the boundaries of everything! She lives in St. George with her husband Courtney\, 2 daughters 12 &amp\; 7 and a 6 month old son.&nbsp\;</span></p>\n
LOCATION:Courtyard by Marriott 185 S. 1470 E. St. George\, UT
UID:e.1117.9041
SEQUENCE:3
DTSTAMP:20260421T083848Z
URL:https://business.stgeorgechamber.com/events/details/chamber-inspiration-luncheon-featuring-mandi-gubler-08-03-2016-9041
END:VEVENT

END:VCALENDAR
