BEGIN:VCALENDAR
VERSION:2.0
PRODID:-//ChamberMaster//Event Calendar 2.0//EN
METHOD:PUBLISH
X-PUBLISHED-TTL:P3D
REFRESH-INTERVAL:P3D
CALSCALE:GREGORIAN
BEGIN:VEVENT
DTSTART:20150401T173000Z
DTEND:20150401T190000Z
X-MICROSOFT-CDO-ALLDAYEVENT:FALSE
SUMMARY:Chamber Inspiration Luncheon featuring L.E. Modesitt
DESCRIPTION:This Wednesday's Inspiration Luncheon will feature L.E. Modesitt whose presentation is entitled:  "How a young economist became a Navy pilot\, and then how various failures led to career improvements in business and government and eventually to success as a New York Times best-selling author."  He will be talking about how he went from being a clueless young man with extremely limited people skills through a checkered career path\, encompassing being a Navy pilot during the Vietnam era\, an industrial economist\, a high level political staffer in Washington embroiled in political dog-fighting\, to a best-selling fantasy and science fiction author\, and what the journey illustrates about the struggle for success.\n\n\n\nAlthough he is the author of more than 65 novels   primarily science fiction and fantasy   L. E. Modesitt\, Jr.\, has also been a delivery boy\;  a lifeguard\;  an unpaid radio disc jockey\;  a U.S. Navy pilot\; a market research analyst\; a real estate agent\; director of research for a political campaign\;  legislative assistant and staff director for U.S. Congressmen\;  Director of Legislation and Congressional Relations for the U.S. Environmental Protection Agency\;  a consultant on environmental\, regulatory\, and communications issues\;  a college lecturer and writer in residence\; and unpaid treasurer of a civic music arts association.  \n\nShortly after his tours as a Navy amphibious officer and then as a pilot\, he returned to Denver as a market research analyst and economist\, which experiences generated the idea for his first published story   "The Great American Economy"   printed in ANALOG in 1973.  He then pursued a career in another kind of fiction by becoming the Legislative Assistant for Congressman Bill Armstrong in Washington\, D.C.\, and later staff director for Congressman Ken Kramer. During his years in Washington\, he attempted to regain some hold on reality by writing increasingly more science fiction.  Not totally by coincidence\, his first novel was published while he was serving as the head of Legislation and Congressional Relations at the U.S. EPA during the Reagan-Burford controversies. These experiences led to the writing of The Green Progression\, a book almost totally factual and yet termed more fantastic than any of his fantasy novels.  \n\n \n\nAlong the way\, Mr. Modesitt has weathered eight children\, a fondness for three-piece suits which has deteriorated into a love of vests\, numerous canines\, the majority of them rescues\, and two refugee felines\, one of whom has never forgotten that the Egyptians once worshipped cats. Finally\, in 1989\, to escape nearly twenty years of occupational captivity in Washington\, D.C.\, he moved to New Hampshire.  There he married a lyric soprano\, and he and his wife Carol moved to Cedar City\, Utah\, in 1993\, where she directs the voice and opera program at Southern Utah University and he continues to create and manage chaos\, largely\, but not entirely\, of the fictional variety.
X-ALT-DESC;FMTTYPE=text/html:<p class="MsoNormal" style="text-align: justify\;"><span style="color:#000000\;"><span style="font-size:14px\;"><span style="line-height: normal\;">This Wednesday&#39\;s Inspiration Luncheon will feature L.E. Modesitt whose presentation is entitled: &nbsp\;&quot\;How a young&nbsp\;economist became a Navy pilot\, and then how various failures led to career improvements in business and government and eventually to success as a&nbsp\;<i style="font-weight: bold\;">New York Times&nbsp\;</i>best-selling author.&quot\; &nbsp\;He&nbsp\;</span><span style="font-family: Arial\, sans-serif\; line-height: normal\;">will be talking about how he went from being a clueless young man with extremely limited people skills through a checkered career path\, encompassing being a Navy pilot during the Vietnam era\, an industrial economist\, a high level political staffer in Washington embroiled in political dog-fighting\, to a best-selling fantasy and science fiction author\, and what the journey illustrates about the struggle for success.</span><br />\n<br />\n<span new="" times="">Although he is the author of more than 65 novels &ndash\; primarily science fiction and fantasy &ndash\; L. E. Modesitt\, Jr.\, has also been a delivery boy\;&nbsp\; a lifeguard\;&nbsp\; an unpaid radio disc jockey\;&nbsp\; a U.S. Navy pilot\; a market research analyst\; a real estate agent\; director of research for a political campaign\;&nbsp\; legislative assistant and staff director for U.S. Congressmen\;&nbsp\; Director of Legislation and Congressional Relations for the U.S. Environmental Protection Agency\;&nbsp\; a consultant on environmental\, regulatory\, and communications issues\;&nbsp\; a college lecturer and writer in residence\; and unpaid treasurer of a civic music arts association.&nbsp\; </span></span></span></p>\n\n<p class="MsoNormal" style="text-align: justify\;"><span style="color:#000000\;"><span style="font-size:14px\;"><span new="" times="">Shortly after his tours as a Navy amphibious officer and then as a pilot\, he returned to Denver as a market research analyst and economist\, which experiences generated the idea for his first published story &ndash\; &ldquo\;The Great American Economy&rdquo\; &ndash\; printed in <b>ANALOG</b> in 1973.&nbsp\; He then pursued a career in another kind of fiction by becoming the Legislative Assistant for Congressman Bill Armstrong in </span></span></span><span new="" style="font-size:14.0pt\;mso-bidi-font-size:10.0pt\;font-family:" times=""><st1:place w:st="on"><st1:city w:st="on"><span style="color:#000000\;"><span style="font-size:14px\;">Washington</span></span></st1:city><span style="color:#000000\;"><span style="font-size:14px\;">\, </span></span><st1:state w:st="on"><span style="color:#000000\;"><span style="font-size:14px\;">D.C.</span></span></st1:state></st1:place><span style="color:#000000\;"><span style="font-size:14px\;">\, and later staff director for Congressman Ken Kramer. During his years in </span></span><st1:state w:st="on"><st1:place w:st="on"><span style="color:#000000\;"><span style="font-size:14px\;">Washington</span></span></st1:place></st1:state></span><span style="color:#000000\;"><span style="font-size:14px\;"><span new="" times="">\, he attempted to regain some hold on reality by writing increasingly more science fiction.&nbsp\; Not totally by coincidence\, his first novel was published while he was serving as the head of Legislation and Congressional Relations at the U.S. EPA during the Reagan-Burford controversies. These experiences led to the writing of <b>The Green Progression</b>\, a book almost totally factual and yet termed more fantastic than any of his fantasy novels.&nbsp\; </span></span></span></p>\n\n<p class="MsoNormal" style="text-align: justify\;"><span style="color:#000000\;"><span style="font-size:14px\;"><span new="" times="">&nbsp\;</span></span></span></p>\n\n<p class="MsoNormal" style="text-align: justify\;"><span style="color:#000000\;"><span style="font-size:14px\;"><span new="" times="">Along the way\, Mr. Modesitt has weathered eight children\, a fondness for three-piece suits which has deteriorated into a love of vests\, numerous canines\, the majority of them rescues\, and two refugee felines\, one of whom has never forgotten that the Egyptians once worshipped cats. Finally\, in 1989\, to escape nearly twenty years of occupational captivity in </span></span></span><span new="" style="font-size:14.0pt\;mso-bidi-font-size:10.0pt\;font-family:" times=""><st1:place w:st="on"><st1:city w:st="on"><span style="color:#000000\;"><span style="font-size:14px\;">Washington</span></span></st1:city><span style="color:#000000\;"><span style="font-size:14px\;">\, </span></span><st1:state w:st="on"><span style="color:#000000\;"><span style="font-size:14px\;">D.C.</span></span></st1:state></st1:place><span style="color:#000000\;"><span style="font-size:14px\;">\, he moved to </span></span><st1:state w:st="on"><st1:place w:st="on"><span style="color:#000000\;"><span style="font-size:14px\;">New Hampshire</span></span></st1:place></st1:state></span><span style="color:#000000\;"><span style="font-size:14px\;"><span new="" times="">.&nbsp\; There he married a lyric soprano\, and he and his wife Carol moved to Cedar City\, Utah\, in 1993\, where she directs the voice and opera program at Southern Utah University and he continues to create and manage chaos\, largely\, but not entirely\, of the fictional variety.</span></span></span></p>\n
LOCATION:Courtyard by Marriott 185 S. 1470 E. St. George\, UT
UID:e.1117.6351
SEQUENCE:3
DTSTAMP:20260420T190829Z
URL:https://business.stgeorgechamber.com/events/details/chamber-inspiration-luncheon-featuring-l-e-modesitt-04-01-2015-6351
END:VEVENT

END:VCALENDAR
