BEGIN:VCALENDAR
VERSION:2.0
PRODID:-//ChamberMaster//Event Calendar 2.0//EN
METHOD:PUBLISH
X-PUBLISHED-TTL:P3D
REFRESH-INTERVAL:P3D
CALSCALE:GREGORIAN
BEGIN:VEVENT
DTSTART:20160504T173000Z
DTEND:20160504T190000Z
X-MICROSOFT-CDO-ALLDAYEVENT:FALSE
SUMMARY:Chamber Inspiration Luncheon featuring Justin Osmond
DESCRIPTION:Justin was born with a severe/profound hearing loss.  Diagnosed at the age of 2 with a 90% hearing loss and after 12 years of intense speech and listening therapy\, he can now speak with passion and through modern-day technology\, hear with conviction. Considering the fact that he was a couple years behind his peers\, he has shown through intense dedication\, mental toughness and physical exertion\, that nothing can stop him from going after his dreams.\n\n \n\nDespite living with a profound hearing loss\, Justin pressed forward with a perfect brightness of hope and a love for all humanity.  Even after being told by doctors\, teachers and professionals that he would never play a musical instrument\, he went on to play the violin\, viola\, piano\, and drums.  He has received numerous awards such as the prestigious sterling scholarship in music\, academic scholarships\, honorary achievements\, and many athletic titles in soccer\, football\, basketball\, and track.  He is also proud to represent the Boy Scouts of America as an Eagle Scout\, and he currently has his Master's in Business Administration.\n\n \n\nJustin is a family man who resides with his sweetheart\, Kristi in the mountains of Utah. Justin loves 4-wheeling\, boating\, camping\, anything outdoors\, and spending time witih family and friends.  Justin knows first-hand what it is like to live in a world without sound. In his recently published book "Hearing with my Heart"\, he shares his story with the world in order to help everyone understand the struggles of living with a hearing loss and how to overcome it.  He lives every day by his personal motto:  "I may have a hearing loss\, but that hearing loss does not have me.
X-ALT-DESC;FMTTYPE=text/html:<p class="font_6" style="margin: 0px\; padding: 0px\; border: 0px\; outline: 0px\; vertical-align: baseline\; font-stretch: normal\; font-size: 14px\; line-height: normal\; font-family: droid-serif-w01-regular\, droid-serif-w02-regular\, droid-serif-w10-regular\, serif\; color: rgb(85\, 83\, 83)\; background: transparent\;"><span style="color:#000000\;"><span style="font-size:14px\;"><span style="font-family:arial\;"><span style="margin: 0px\; padding: 0px\; border: 0px\; outline: 0px\; vertical-align: baseline\; background: transparent\;">Justin&nbsp\;was born with a severe/profound hearing loss.&nbsp\; Diagnosed at the age of 2 with a 90% hearing loss and after 12 years of intense speech and listening therapy\, he can now speak with passion and through modern-day technology\, hear with conviction. Considering the fact that he was a couple years behind his peers\, he has shown through intense dedication\, mental toughness and physical exertion\, that nothing can stop him from going after his dreams.</span></span></span></span></p>\n\n<p class="font_7" style="margin: 0px\; padding: 0px\; border: 0px\; outline: 0px\; vertical-align: baseline\; font-stretch: normal\; font-size: 14px\; line-height: normal\; font-family: droid-serif-w01-regular\, droid-serif-w02-regular\, droid-serif-w10-regular\, serif\; color: rgb(85\, 83\, 83)\; background: transparent\;">&nbsp\;</p>\n\n<p class="font_7" style="margin: 0px\; padding: 0px\; border: 0px\; outline: 0px\; vertical-align: baseline\; font-stretch: normal\; font-size: 14px\; line-height: normal\; font-family: droid-serif-w01-regular\, droid-serif-w02-regular\, droid-serif-w10-regular\, serif\; color: rgb(85\, 83\, 83)\; background: transparent\;"><span style="color:#000000\;"><span style="font-size:14px\;"><span style="font-family:arial\;"><span style="margin: 0px\; padding: 0px\; border: 0px\; outline: 0px\; vertical-align: baseline\; background: transparent\;">Despite living with a profound hearing loss\, Justin pressed forward with a perfect brightness of hope and a love for all humanity.&nbsp\; Even after being told by doctors\, teachers and professionals that he would never play a musical instrument\, he went on to play the violin\, viola\, piano\, and drums.&nbsp\; He has received numerous awards such as the prestigious sterling scholarship in music\, academic scholarships\, honorary achievements\, and many athletic titles in soccer\, football\, basketball\, and track.&nbsp\; He is also proud to represent the Boy Scouts of America as an Eagle Scout\, and he currently has his Master&rsquo\;s in Business Administration.</span></span></span></span></p>\n\n<p class="font_7" style="margin: 0px\; padding: 0px\; border: 0px\; outline: 0px\; vertical-align: baseline\; font-stretch: normal\; font-size: 14px\; line-height: normal\; font-family: droid-serif-w01-regular\, droid-serif-w02-regular\, droid-serif-w10-regular\, serif\; color: rgb(85\, 83\, 83)\; background: transparent\;">&nbsp\;</p>\n\n<p class="font_7" style="margin: 0px\; padding: 0px\; border: 0px\; outline: 0px\; vertical-align: baseline\; font-stretch: normal\; font-size: 14px\; line-height: normal\; font-family: droid-serif-w01-regular\, droid-serif-w02-regular\, droid-serif-w10-regular\, serif\; color: rgb(85\, 83\, 83)\; background: transparent\;"><span style="color:#000000\;"><span style="font-size:14px\;"><span style="font-family:arial\;"><span style="margin: 0px\; padding: 0px\; border: 0px\; outline: 0px\; vertical-align: baseline\; background: transparent\;">Justin&nbsp\;is a family man who resides with his sweetheart\, Kristi&nbsp\;in the mountains of Utah. Justin loves 4-wheeling\, boating\, camping\, anything&nbsp\;outdoors\, and spending time witih family and friends.&nbsp\;</span><span style="margin: 0px\; padding: 0px\; border: 0px\; outline: 0px\; vertical-align: baseline\; background: transparent\;">&nbsp\;Justin knows first-hand what it is like to live in a world without sound. In his recently published book &ldquo\;Hearing with my Heart&rdquo\;\, he shares his story with the world in order to help everyone understand the struggles of living with a hearing loss and how to overcome it.&nbsp\; He lives every day by his personal motto:&nbsp\; &ldquo\;I may have a hearing loss\, but that hearing loss does not have me.</span></span></span></span></p>\n
LOCATION:Courtyard by Marriott 185 S. 1470 E. St. George\, UT
UID:e.1117.8556
SEQUENCE:3
DTSTAMP:20260419T183615Z
URL:https://business.stgeorgechamber.com/events/details/chamber-inspiration-luncheon-featuring-justin-osmond-05-04-2016-8556
END:VEVENT

END:VCALENDAR
