BEGIN:VCALENDAR
VERSION:2.0
PRODID:-//ChamberMaster//Event Calendar 2.0//EN
METHOD:PUBLISH
X-PUBLISHED-TTL:P3D
REFRESH-INTERVAL:P3D
CALSCALE:GREGORIAN
BEGIN:VEVENT
DTSTART:20160406T173000Z
DTEND:20160406T190000Z
X-MICROSOFT-CDO-ALLDAYEVENT:FALSE
SUMMARY:Chamber Inspiration Luncheon featuring Eric Dodge
DESCRIPTION:Eric Dodge's albums are making waves in the country music world! His album Why Not Today became a huge international success and has sold all over the world in over 15 countries and even topped the Amazon.com best selling albums list. Eric has also been featured in Country Weekly magazine\, KUTV 2 News at Noon\, and Good Things Utah\, several times. Eric has released 8 albums and has performed across the United States and Canada. In 2012 he was accepted into the Country Music association\, the (CMA). In 2013 Eric became an Author and entered the world of book writing. He released his debut book titled Baby Steps To Music Industry Success. In 2015 Eric released his second book Why Not Today? Face Your Fears and Chase Your Dreams! Eric is also a member of the National Speakers Association\, where he shares his musical messages in Keynote and Corporate events all across the United States. He's also shared the stage with many of country music's biggest names\, some of which include\, Clint Black\, Lorrie Morgan\, Pam Tillis\, SheDaisy\, Julianne Hough\, John Michael Montgomery\, Justin Moore\, Collin Raye\, Chris Ledoux\, Diamond Rio\, Terri Clark\, Travis Tritt\, and Carrie Underwood in front of over 50\,000 people!
X-ALT-DESC;FMTTYPE=text/html:<p><span style="color:black\;"><span style="font-family:dosis-light\;"><span style="font-size:16.0pt\;">Eric Dodge&rsquo\;s albums are making waves in the country music world! His album Why Not Today became a huge international success and has sold all over the world in over 15 countries and even topped the Amazon.com best selling albums list. Eric has also been featured in Country Weekly magazine\, KUTV 2 News at Noon\, and Good Things Utah\, several times. Eric has released 8 albums and has performed across the United States and Canada. In 2012 he was accepted into the Country Music association\, the (CMA). In 2013 Eric became an Author and entered the world of book writing. He released his debut book titled Baby Steps To Music Industry Success. In 2015 Eric released his second book Why Not Today? Face Your Fears and Chase Your Dreams! Eric is also a member of the National Speakers Association\, where he shares his musical messages in Keynote and Corporate events all across the United States. He&rsquo\;s also shared the stage with many of country music&rsquo\;s biggest names\, some of which include\, Clint Black\, Lorrie Morgan\, Pam Tillis\, SheDaisy\, Julianne Hough\, John Michael Montgomery\, Justin Moore\, Collin Raye\, Chris Ledoux\, Diamond Rio\, Terri Clark\, Travis Tritt\, and Carrie Underwood in front of over 50\,000 people!</span></span></span></p>\n
LOCATION:Courtyard by Marriott 185 S. 1470 E. St. George\, UT
UID:e.1117.8530
SEQUENCE:3
DTSTAMP:20260419T201259Z
URL:https://business.stgeorgechamber.com/events/details/chamber-inspiration-luncheon-featuring-eric-dodge-04-06-2016-8530
END:VEVENT

END:VCALENDAR
