BEGIN:VCALENDAR
VERSION:2.0
PRODID:-//ChamberMaster//Event Calendar 2.0//EN
METHOD:PUBLISH
X-PUBLISHED-TTL:P3D
REFRESH-INTERVAL:P3D
CALSCALE:GREGORIAN
BEGIN:VEVENT
DTSTART:20141105T183000Z
DTEND:20141105T200000Z
X-MICROSOFT-CDO-ALLDAYEVENT:FALSE
SUMMARY:Chamber Inspiration Luncheon featuring Dean Lee Perry
DESCRIPTION:Dean Lee Perry\, Dean of the BYU Marriott School of Management will be addressing the future of business education in a global world. He'll also share what it was like to be the biographer for LDS General Authority\, L. Tom Perry\, his father.\n\n\n\nAs the current Dean of the BYU Marriott School of Management\, Perry will be addressing the future of business education in a global world. He'll also share what it was like to be the biographer for LDS General Authority\, L. Tom Perry\, his father.  Perry will also reveal ten principles that help you be more effective and will offer what he has learned by blending leadership theory and actual practice in situation-specific instances\, resulting in what will help attendees think about their leadership in new\, creative\, and helpful ways.\n\n \n\nPerry served as the associate dean over both graduate and undergraduate programs at the Marriott School from 1998 to 2005 prior to his call as president of the California Roseville Mission for The Church of Jesus Christ of Latter-day Saints. On July 1st 2013 Perry was appointed Dean of the Marriott School of Management. He holds a doctorate in administration sciences from Yale University.
X-ALT-DESC;FMTTYPE=text/html:<p><span style="font-size:14px\;">Dean Lee Perry\, Dean of the BYU Marriott School of Management will be addressing the future of business education in a global world. He&#39\;ll also share what it was like to be the biographer for LDS General Authority\, L. Tom Perry\, his father.<br />\n<br />\nAs the current Dean of the BYU Marriott School of Management\, Perry will be addressing the future of business education in a global world. He&#39\;ll also share what it was like to be the biographer for LDS General Authority\, L. Tom Perry\, his father.&nbsp\; Perry will also reveal ten principles that help you be more effective and will offer what he has learned by blending leadership theory and actual practice in situation-specific instances\, resulting in what will help attendees think about their leadership in new\, creative\, and helpful ways.<br />\n&nbsp\;<br />\nPerry served as the associate dean over both graduate and undergraduate programs at the Marriott School from 1998 to 2005 prior to his call as president of the California Roseville Mission for The Church of Jesus Christ of Latter-day Saints. On July 1<sup>st</sup> 2013 Perry was appointed Dean of the Marriott School of Management. He holds a doctorate in administration sciences from Yale University.</span></p>\n
LOCATION:Dixie State University Gardner Center Ballroom 225 S. 700 E. St. George\, UT
UID:e.1117.6033
SEQUENCE:3
DTSTAMP:20260421T025825Z
URL:https://business.stgeorgechamber.com/events/details/chamber-inspiration-luncheon-featuring-dean-lee-perry-11-05-2014-6033
END:VEVENT

END:VCALENDAR
