BEGIN:VCALENDAR
VERSION:2.0
PRODID:-//ChamberMaster//Event Calendar 2.0//EN
METHOD:PUBLISH
X-PUBLISHED-TTL:P3D
REFRESH-INTERVAL:P3D
CALSCALE:GREGORIAN
BEGIN:VEVENT
DTSTART:20140205T184500Z
DTEND:20140205T200000Z
X-MICROSOFT-CDO-ALLDAYEVENT:FALSE
SUMMARY:Chamber Inspiration Luncheon featuring David Bradford\, hirevue.com Exec. Chair.
DESCRIPTION:David Bradford is the Vice Chairman of HireView.com and sits on several nonprofit and corporate boards.  He also advises some of Utah's top technology companies.  His executive resume with companies like Fusion IO\, Novell and so many others distinguishes him as a great leader and connector extraordinaire. \n\n \n\nWhat do Larry King\, Governor Herbert and Steve Young have to say about David Bradford?   Watch them on the Utah Technology Council's Hall of Fame video at David's website www.davidbradford.com and while you're there download David's free eBook\, "101 Tips For Personal\, Powerful and Permanent Business Connections."  David's story of growing up dirt poor to becoming one of the top technology players in the US is truly inspiring.  During his presentation he'll be sharing his Six "UP" Principles for a successful business and career.  These are principles he's proven over and over during his very successful career.   You don't want to miss this.\n\n \n\nRecord Breaking Attendance   Reserve Your Seat Now!\n\n \n\nWord is spreading about our new programing with 150 attending our first Chamber Trainers event earlier in the month and 140 enjoying lunch at Grandma Tobler's last week.  We're expecting a record breaking crowd of over 200 at this first Inspiration Luncheon so come prepared with business cards and ready to meet a myriad of new contacts.  We'll be introducing a record breaking number of new members as well. \n\n \n\nDoors open at 11:30AM.   The luncheon will start at 12:00 Noon sharp.  We look forward to seeing you at the hottest event in town   The St George Chamber's Inspiration Luncheon.  Come and be inspired!!!
X-ALT-DESC;FMTTYPE=text/html:<span style="font-size:14px\;"><span style="font-family:arial\;">David Bradford is the Vice Chairman of HireView.com and sits on several nonprofit and corporate boards.&nbsp\; He also advises some of Utah&rsquo\;s top technology companies.&nbsp\; His executive resume with companies like Fusion IO\, Novell and so many others distinguishes him as a great leader and connector extraordinaire.&nbsp\;<br />\n&nbsp\;<br />\nWhat do <strong>Larry King\, Governor Herbert</strong> and <strong>Steve Young</strong> have to say about David Bradford?&nbsp\;&nbsp\; Watch them on the Utah Technology Council&rsquo\;s Hall of Fame video at David&rsquo\;s website <a href="http://www.davidbradford.com/">www.davidbradford.com</a> and while you&rsquo\;re there download David&rsquo\;s free eBook\, &ldquo\;<u>101 Tips For Personal\, Powerful and Permanent Business Connections</u>.&rdquo\;&nbsp\; David&rsquo\;s story of growing up dirt poor to becoming one of the top technology players in the US is truly inspiring.&nbsp\; During his presentation he&rsquo\;ll be sharing his Six &ldquo\;UP&rdquo\; Principles for a successful business and career.&nbsp\; These are principles he&rsquo\;s proven over and over during his very successful career.&nbsp\; &nbsp\;You don&rsquo\;t want to miss this.<br />\n&nbsp\;<br />\n<strong>Record Breaking Attendance &ndash\; Reserve Your Seat Now!</strong><br />\n&nbsp\;<br />\nWord is spreading about our new programing with 150 attending our first Chamber Trainers event earlier in the month and 140 enjoying lunch at Grandma Tobler&rsquo\;s last week.&nbsp\; We&rsquo\;re expecting a record breaking crowd of over 200 at this first Inspiration Luncheon so come prepared with business cards and ready to meet a myriad of new contacts.&nbsp\; We&rsquo\;ll be introducing a record breaking number of new members as well.&nbsp\;<br />\n&nbsp\;<br />\nDoors open at 11:30AM.&nbsp\; &nbsp\;The luncheon will start at 12:00 Noon sharp.&nbsp\; We look forward to seeing you at the hottest event in town &ndash\; The St George Chamber&rsquo\;s Inspiration Luncheon.&nbsp\; Come and be inspired!!!</span></span><br />\n
LOCATION:Courtyard by Marriott 185 S. 1470 E. St. George
UID:e.1117.5039
SEQUENCE:3
DTSTAMP:20260421T143050Z
URL:https://business.stgeorgechamber.com/events/details/chamber-inspiration-luncheon-featuring-david-bradford-hirevue-com-exec-chair-02-05-2014-5039
END:VEVENT

END:VCALENDAR
