BEGIN:VCALENDAR
VERSION:2.0
PRODID:-//ChamberMaster//Event Calendar 2.0//EN
METHOD:PUBLISH
X-PUBLISHED-TTL:P3D
REFRESH-INTERVAL:P3D
CALSCALE:GREGORIAN
BEGIN:VEVENT
DTSTART:20151202T183000Z
DTEND:20151202T200000Z
X-MICROSOFT-CDO-ALLDAYEVENT:FALSE
SUMMARY:Chamber Inspiration Luncheon featuring Carl Lamar
DESCRIPTION:This Wednesday's Inspiration Luncheon will feature famed and noted radio DJ Carl Lamar.  He'll talk about his 43 years in radio broadcasting\, what he's learned about the changing advertising industry and his philanthropy work.\n\nRaised in Flagstaff\, Arizona\, he started his radio career in 1972\, working at three radio stations there and leaving as General Manager in 1986. He served as General Sales Manager for the Navajo Nation's 50\,000 Watt station until his move to St. George in 1987. There\, he started as General Manager and morning show co-host for KONY and continues to do the morning show. Carl also served as Vice President of Broadcast Operations for Red Rock Broadcasting until 2000. He is currently Executive Vice-President of Canyon Media which operates 99.9 KONY Country\, 94.1 THE PLANET\, 95.9 The Hawk\, FOX NEWSRADIO FM 93.1 FM and AM 1450\, Easy 101.5\, 96X\, and Juan 104.1. He has served as Past Board Member of the St. George Chamber of Commerce\; past chairman and board member of the Washington Country School District foundation\; past President and member of the Dixie Sunshiners\; past member of the noon Exchange Club\; past chairman and board member of the Bloomington Community Council\, and past board member of the St. George Rotary Club. Currently\, Carl serves as President of the KONY Coins for Kids Charity. He enjoys music\, singing\, flying airplanes and helicopters\, ham radio and people! Carl and his wife Carmen are the proud parents of 4 children and 13 grandchildren!
X-ALT-DESC;FMTTYPE=text/html:<p class="MsoNormal" style="text-align: justify\;"><span style="font-size:14px\;"><span style="font-family:arial\;"><span style="color:#000000\;"><span style="line-height: normal\;">This Wednesday&#39\;s Inspiration Luncheon will feature famed and noted radio DJ&nbsp\;</span></span><span style="color:black\;">Carl Lamar. &nbsp\;He&#39\;ll talk about his 43 years in radio broadcasting\, what he&#39\;s learned about the changing advertising industry and his philanthropy work.<br />\nRaised in Flagstaff\, Arizona\, he started his radio career in 1972\, working&nbsp\;at three radio stations there and&nbsp\;leaving as General Manager in 1986. He served as General Sales Manager for the Navajo Nation&rsquo\;s 50\,000 Watt station until his move to St. George in 1987. There\, he started as General Manager and morning show co-host for KONY and continues to do the morning show. Carl also served as Vice President of Broadcast Operations for Red Rock Broadcasting until 2000. He is currently Executive Vice-President&nbsp\;of Canyon Media which operates 99.9 KONY Country\, 94.1 THE PLANET\, 95.9 The Hawk\, FOX NEWSRADIO FM 93.1 FM and AM 1450\, Easy 101.5\, 96X\, and Juan 104.1. He has served as Past Board Member of the St. George Chamber of Commerce\; past chairman and board member of the Washington Country School District foundation\; past President and member of the Dixie Sunshiners\; past member of the noon Exchange Club\; past chairman and board member of the Bloomington Community Council\, and past board member of the St. George Rotary Club. Currently\, Carl serves as President of the KONY Coins for Kids Charity. He enjoys music\, singing\, flying airplanes and helicopters\, ham radio and people! Carl and his wife Carmen are the proud parents of 4 children and 13 grandchildren!&nbsp\;</span></span></span></p>\n
LOCATION:Courtyard by Marriott 185 S. 1470 E. St. George\, UT
UID:e.1117.7350
SEQUENCE:3
DTSTAMP:20260420T051114Z
URL:https://business.stgeorgechamber.com/events/details/chamber-inspiration-luncheon-featuring-carl-lamar-12-02-2015-7350
END:VEVENT

END:VCALENDAR
