BEGIN:VCALENDAR
VERSION:2.0
PRODID:-//ChamberMaster//Event Calendar 2.0//EN
METHOD:PUBLISH
X-PUBLISHED-TTL:P3D
REFRESH-INTERVAL:P3D
CALSCALE:GREGORIAN
BEGIN:VEVENT
DTSTART:20140402T173000Z
DTEND:20140402T190000Z
X-MICROSOFT-CDO-ALLDAYEVENT:FALSE
SUMMARY:Chamber Inspiration Luncheon Featuring Artist Del Parson
DESCRIPTION:The Turning Point\n\nThe moment when an artist realizes their artistic passion must also become their business passion in order to survive and thrive as an artist.\n\n \n\nIt takes more than talent to become a world-class painter.  It takes an appreciation and dedication of the business and marketing side of the art.  During next Wednesday's Inspiration Luncheon\, world renowned painter Del Parson will take us on his own personal journey of how he discovered and practiced his business discipline as well as his artistic drive for giving the world some of it's most beloved works of art. \n\n \n\nDel is not only a world famous painter best known for his religious subjects but is also a highly admired and inspired teacher at Dixie State University. He feels a great responsibility for educating his students that their art alone is not enough to achieve fame and success.  But that the artist must simultaneously understand and practice the art of business in order to create a living for themselves and their work. You will be touched and inspired by his personal journey as an artist and businessman.  \n\n\n\nDel Parson grew up in Rexburg\, Idaho where his father was an art professor at Ricks College and his mother taught second grade. His father often took his nine children on painting excursion campouts. He found his father's love of art to be contagious\, as did two of his brothers\, who became artists as well.\n\nAfter earning his MFA from Brigham Young University\, Parson became a gallery and portrait artist. In 1978\, a tragedy changed his life. His wife and daughter were killed in a car accident. He felt the Spirit of God helping him through the tough times and began to paint religious subjects to give others the sense of hope that he found and to share with them his love of life.\n\nOften he will visualize ideas for paintings. After making a list\, one idea will stand out more strongly than the others. Like any creative endeavor\, painting is hard work\, and a major oil painting can take at least a month to complete.\n\n"When you feel inspired\," says Parson\, "a painting takes on a life of its own. When that happens\, the experience is pure joy. It is moments like these that an artist loves best."\n\nParson now lives in Utah with his wife and six children. His paintings of Christ evoke a strong emotional response from viewers\, and both his religious and historical paintings have received numerous regional and national awards. Parson's work has been exhibited at the Allied Artists of America\, National Academy of Design\, Knickerbocker Artist\, American Artists Professional League\, and the Amarillo Rotary Show.
X-ALT-DESC;FMTTYPE=text/html:<p style="margin-top:0in\;margin-right:0in\;margin-bottom:6.0pt\;margin-left:0in"><span style="font-size:14px\;"><span style="font-family:arial\;"><strong>The Turning Point</strong><br />\n<em>The moment when an artist realizes their artistic passion must also become their business passion in order to survive and thrive as an artist.</em><br />\n&nbsp\;<br />\nIt takes more than talent to become a world-class painter.&nbsp\; It takes an appreciation and dedication of the business and marketing side of the art.&nbsp\; During next Wednesday&rsquo\;s Inspiration Luncheon\, world renowned painter Del Parson will take us on his own personal journey of how he discovered and practiced his business discipline as well as his artistic drive for giving the world some of it&rsquo\;s most beloved works of art.&nbsp\;<br />\n&nbsp\;<br />\nDel is not only a world famous painter best known for his religious subjects but is also a highly admired and inspired teacher at Dixie State University. He feels a great responsibility for educating his students that their art alone is not enough to achieve fame and success.&nbsp\; But that the artist must simultaneously understand and practice the art of business in order to create a living for themselves and their work. You will be touched and inspired by his personal journey as an artist and businessman.&nbsp\;&nbsp\;<br />\n<br />\nDel Parson grew up in Rexburg\, Idaho where his father was an art professor at Ricks College and his mother taught second grade. His father often took his nine children on painting excursion campouts. He found his father&rsquo\;s love of art to be contagious\, as did two of his brothers\, who became artists as well.</span></span></p>\n\n<p style="margin: 0in 0in 6pt\;"><span style="font-size:14px\;"><span style="font-family:arial\;">After earning his MFA from Brigham Young University\, Parson became a gallery and portrait artist. In 1978\, a tragedy changed his life. His wife and daughter were killed in a car accident. He felt the Spirit of God helping him through the tough times and began to paint religious subjects to give others the sense of hope that he found and to share with them his love of life.</span></span></p>\n\n<p style="margin: 0in 0in 6pt\;"><span style="font-size:14px\;"><span style="font-family:arial\;">Often he will visualize ideas for paintings. After making a list\, one idea will stand out more strongly than the others. Like any creative endeavor\, painting is hard work\, and a major oil painting can take at least a month to complete.</span></span></p>\n\n<p style="margin: 0in 0in 6pt\;"><span style="font-size:14px\;"><span style="font-family:arial\;">&ldquo\;When you feel inspired\,&rdquo\; says Parson\, &ldquo\;a painting takes on a life of its own. When that happens\, the experience is pure joy. It is moments like these that an artist loves best.&rdquo\;</span></span></p>\n\n<p style="margin: 0in 0in 6pt\;"><span style="font-size:14px\;"><span style="font-family:arial\;">Parson now lives in Utah with his wife and six children. His paintings of Christ evoke a strong emotional response from viewers\, and both his religious and historical paintings have received numerous regional and national awards. Parson&rsquo\;s work has been exhibited at the Allied Artists of America\, National Academy of Design\, Knickerbocker Artist\, American Artists Professional League\, and the Amarillo Rotary Show.</span></span></p>\n
LOCATION:Courtyard by Marriott 185 South 1470 East St. George\, UT
UID:e.1117.5112
SEQUENCE:3
DTSTAMP:20260421T112539Z
URL:https://business.stgeorgechamber.com/events/details/chamber-inspiration-luncheon-featuring-artist-del-parson-04-02-2014-5112
END:VEVENT

END:VCALENDAR
