BEGIN:VCALENDAR
VERSION:2.0
PRODID:-//ChamberMaster//Event Calendar 2.0//EN
METHOD:PUBLISH
X-PUBLISHED-TTL:P3D
REFRESH-INTERVAL:P3D
CALSCALE:GREGORIAN
BEGIN:VEVENT
DTSTART:20140305T183000Z
DTEND:20140305T200000Z
X-MICROSOFT-CDO-ALLDAYEVENT:FALSE
SUMMARY:Chamber Inspiration Luncheon featuring Answers.com CEO Peter Horan
DESCRIPTION:"Lessons About The Future From 40 Years On The Front Lines of Innovation"\n\n \n\nPeter C. Horan is an entrepreneur with a history of building successful media and internet businesses.   He has played a role in five major revolutions in media and technology including: home video games\; personal computers\; cell phones\; Windows computing\; and the internet.   As a CEO and independent director he has been part of four profitable exits in the last seven years totaling more than $700 million in value.\n\n \n\n  In February of 2014\, Peter formed Horan MediaTech Advisors as an umbrella for his investment and consulting activities. Peter currently works with and/or has investments in: Healthy Out\; Kyck\; Lending Tree\; Mowingo\; Net2Television\; PublishThis\; ShopPad\; Skift\; SocialWire\, TalkWheel\, Topix\, TwelveFold Media\, Viggle and ViralHeat.  \n\n \n\nPeter is actively investing in the sectors that are transforming media and advertising including: the intersection of the social web with media and advertising\; lightweight content models\; as well as advanced ad targeting techniques.    \n\n \n\nHe was previously: President and COO of Answers\, Corp.\; CEO of IAC Media and Advertising\; CEO of About.com\; CEO of AllBusiness.com\, CEO of Goodmail Systems\, and CEO of DevX.   He has served on the board of directors of the Interactive Advertising Bureau and the Online Publishers Association. Peter is an active outdoorsman and environmentalist and is active in the Sierra Club\, Southern Utah Wilderness Alliance and Glen Canyon Institute.
X-ALT-DESC;FMTTYPE=text/html:<p><strong><span style="font-family:arial\,sans-serif\;"><span style="font-size:16.0pt\;">&ldquo\;Lessons About The Future </span></span></strong><strong><span style="font-family:arial\,sans-serif\;"><span style="font-size:16.0pt\;">From 40 Years On The Front Lines of Innovation&rdquo\;</span></span></strong><br />\n&nbsp\;<br />\n<span style="color:#262626\;"><span style="font-family:helvetica\,sans-serif\;"><span style="font-size:13.0pt\;">Peter C. Horan is an entrepreneur with a history of building successful media and internet businesses.&#8232\;&#8232\; He has played a role in five major revolutions in media and technology including: home video games\; personal computers\; cell phones\; Windows computing\; and the internet.&#8232\;&#8232\; As a CEO and independent director he has been part of four profitable exits in the last seven years totaling more than $700 million in value.</span></span></span><br />\n&nbsp\;<br />\n<span style="color:#262626\;"><span style="font-family:helvetica\,sans-serif\;"><span style="font-size:13.0pt\;">&#8232\;&#8232\;In February of 2014\, Peter formed Horan MediaTech Advisors as an umbrella for his investment and consulting activities. Peter currently works with and/or has investments in: Healthy Out\; Kyck\; Lending Tree\; Mowingo\; Net2Television\; PublishThis\; ShopPad\; Skift\; SocialWire\, TalkWheel\, Topix\, TwelveFold Media\, Viggle and ViralHeat.&#8232\;&#8232\;</span></span></span><br />\n&nbsp\;<br />\n<span style="color:#262626\;"><span style="font-family:helvetica\,sans-serif\;"><span style="font-size:13.0pt\;">Peter is actively investing in the sectors that are transforming media and advertising including: the intersection of the social web with media and advertising\; lightweight content models\; as well as advanced ad targeting techniques.&#8232\;&#8232\;&nbsp\; </span></span></span><br />\n&nbsp\;<br />\n<span style="color:#262626\;"><span style="font-family:helvetica\,sans-serif\;"><span style="font-size:13.0pt\;">He was previously: President and COO of Answers\, Corp.\; CEO of IAC Media and Advertising\; CEO of About.com\; CEO of AllBusiness.com\, CEO of Goodmail Systems\, and CEO of DevX.&#8232\;&#8232\; He has served on the board of directors of the Interactive Advertising Bureau and the Online Publishers Association. Peter is an active outdoorsman and environmentalist and is active in the Sierra Club\, Southern Utah Wilderness Alliance and Glen Canyon Institute.</span></span></span></p>\n
LOCATION:Courtyard by Marriott 185 S. 1470 E. St. George
UID:e.1117.5041
SEQUENCE:3
DTSTAMP:20260421T130032Z
URL:https://business.stgeorgechamber.com/events/details/chamber-inspiration-luncheon-featuring-answers-com-ceo-peter-horan-03-05-2014-5041
END:VEVENT

END:VCALENDAR
