BEGIN:VCALENDAR
VERSION:2.0
PRODID:-//ChamberMaster//Event Calendar 2.0//EN
METHOD:PUBLISH
X-PUBLISHED-TTL:P3D
REFRESH-INTERVAL:P3D
CALSCALE:GREGORIAN
BEGIN:VEVENT
DTSTART:20211214T230000Z
DTEND:20211215T020000Z
X-MICROSOFT-CDO-ALLDAYEVENT:FALSE
SUMMARY:Chamber Holiday Open House
DESCRIPTION:Join the Chamber and World Trade Center Utah Staff for a holiday open house at the Chamber office! Mix and mingle with food and friends as we celebrate the holiday season! This event is being hosted in partnership with World Trade Center Utah and sponsored by Harmons Grocery!
X-ALT-DESC;FMTTYPE=text/html:Join the Chamber and World Trade Center Utah Staff for a holiday open house at the Chamber office! Mix and mingle with food and friends as we celebrate the holiday season! This event is being hosted in partnership with World Trade Center Utah and sponsored by Harmons Grocery!
LOCATION:
UID:e.1117.16388
SEQUENCE:3
DTSTAMP:20260421T070124Z
URL:https://business.stgeorgechamber.com/events/details/chamber-holiday-open-house-16388
END:VEVENT

END:VCALENDAR
