BEGIN:VCALENDAR
VERSION:2.0
PRODID:-//ChamberMaster//Event Calendar 2.0//EN
METHOD:PUBLISH
X-PUBLISHED-TTL:P3D
REFRESH-INTERVAL:P3D
CALSCALE:GREGORIAN
BEGIN:VEVENT
DTSTART:20260826T173000Z
DTEND:20260826T190000Z
X-MICROSOFT-CDO-ALLDAYEVENT:FALSE
SUMMARY:Chamber Eats | The Grille at Sand Hollow Resort
DESCRIPTION:Experience our member restaurants while making meaningful connections! Each month\, we'll spotlight a different local eatery where Chamber members gather for great food and conversation.\n\nWhen: 11:30 AM arrival\, lunch to follow\n\nWhat's included: Lunch and gratuity - just register through the Chamber website\n\nIt's a delicious way to support our restaurant community and build relationships in a relaxed setting. Space is limited.\n\nSee you at the table!\n\n\n\nMenu:\n\n \n\nItaliano Sandwich :\n\n\n\n	Parmesan Crusted Chicken Breast on Focaccia with Grilled Tomato\, Basil Pesto\, and Provolone Cheese\n	Side of French Fries\n	Soft Drink\n\n\n\nPhilly With Cheese Sandwich :\n\n\n\n	Thin Sliced Ribeye Steak with Sauteed Onions\, Provolone Cheese\, Green Chili Sauce\, on an Amoroso Roll\n	Side of French Fries\n	Soft Drink
X-ALT-DESC;FMTTYPE=text/html:<p class="font-claude-response-body whitespace-normal break-words"><span style="font-size:18px\;">Experience our member restaurants while making meaningful connections! Each month\, we&#39\;ll spotlight a different local eatery where Chamber members gather for great food and conversation.</span></p>\n\n<p class="font-claude-response-body whitespace-normal break-words"><span style="font-size:18px\;"><strong>When:</strong> 11:30 AM arrival\, lunch to follow<br />\n<strong>What&#39\;s included:</strong> Lunch and gratuity - just register through the Chamber website</span></p>\n\n<p class="font-claude-response-body whitespace-normal break-words"><span style="font-size:18px\;">It&#39\;s a delicious way to support our restaurant community and build relationships in a relaxed setting. Space is limited.</span></p>\n\n<p class="font-claude-response-body whitespace-normal break-words"><span style="font-size:18px\;">See you at the table!<br />\n<br />\nMenu:</span><br />\n&nbsp\;</p>\n\n<div style="color: rgb(34\, 34\, 34)\; font-family: Arial\, Helvetica\, sans-serif\; font-size: small\;"><span style="font-size:20px\;">Italiano Sandwich :</span></div>\n\n<div style="color: rgb(34\, 34\, 34)\; font-family: Arial\, Helvetica\, sans-serif\; font-size: small\;">\n<ul>\n	<li style="margin-left: 15px\;"><span style="font-size:20px\;">Parmesan Crusted Chicken Breast on Focaccia with Grilled Tomato\, Basil Pesto\, and Provolone Cheese</span></li>\n	<li style="margin-left: 15px\;"><span style="font-size:20px\;">Side of French Fries</span></li>\n	<li style="margin-left: 15px\;"><span style="font-size:20px\;">Soft Drink</span></li>\n</ul>\n</div>\n\n<div style="color: rgb(34\, 34\, 34)\; font-family: Arial\, Helvetica\, sans-serif\; font-size: small\;"><span style="font-size:20px\;">Philly With Cheese Sandwich :</span></div>\n\n<div style="color: rgb(34\, 34\, 34)\; font-family: Arial\, Helvetica\, sans-serif\; font-size: small\;">\n<ul>\n	<li style="margin-left: 15px\;"><span style="font-size:20px\;">Thin Sliced Ribeye Steak with Sauteed Onions\, Provolone Cheese\, Green Chili Sauce\, on an Amoroso Roll</span></li>\n	<li style="margin-left: 15px\;"><span style="font-size:20px\;">Side of French Fries</span></li>\n	<li style="margin-left: 15px\;"><span style="font-size:20px\;">Soft Drink</span></li>\n</ul>\n</div>\n
LOCATION:The Grille at Sand Hollow Resort
UID:e.1117.18474
SEQUENCE:3
DTSTAMP:20260421T014711Z
URL:https://business.stgeorgechamber.com/events/details/chamber-eats-the-grille-at-sand-hollow-resort-18474
END:VEVENT

END:VCALENDAR
