BEGIN:VCALENDAR
VERSION:2.0
PRODID:-//ChamberMaster//Event Calendar 2.0//EN
METHOD:PUBLISH
X-PUBLISHED-TTL:P3D
REFRESH-INTERVAL:P3D
CALSCALE:GREGORIAN
BEGIN:VEVENT
DTSTART:20260422T173000Z
DTEND:20260422T190000Z
X-MICROSOFT-CDO-ALLDAYEVENT:FALSE
SUMMARY:Chamber Eats | BearPaw Cafe
DESCRIPTION:Experience our member restaurants while making meaningful connections! Each month\, we'll spotlight a different local eatery where Chamber members gather for great food and conversation.\n\nWhen: 11:30 AM arrival\, lunch to follow\n\nWhat's included: Lunch and gratuity - just register through the Chamber website\n\nIt's a delicious way to support our restaurant community and build relationships in a relaxed setting. Space is limited.\n\nSee you at the table!\n\n\n\nMenu Coming Soon
X-ALT-DESC;FMTTYPE=text/html:<p class="font-claude-response-body whitespace-normal break-words"><span style="font-size:18px\;">Experience our member restaurants while making meaningful connections! Each month\, we&#39\;ll spotlight a different local eatery where Chamber members gather for great food and conversation.</span></p>\n\n<p class="font-claude-response-body whitespace-normal break-words"><span style="font-size:18px\;"><strong>When:</strong> 11:30 AM arrival\, lunch to follow<br />\n<strong>What&#39\;s included:</strong> Lunch and gratuity - just register through the Chamber website</span></p>\n\n<p class="font-claude-response-body whitespace-normal break-words"><span style="font-size:18px\;">It&#39\;s a delicious way to support our restaurant community and build relationships in a relaxed setting. Space is limited.</span></p>\n\n<p class="font-claude-response-body whitespace-normal break-words"><span style="font-size:18px\;">See you at the table!<br />\n<br />\nMenu Coming Soon</span></p>\n
LOCATION:Bear Paw Cafe
UID:e.1117.18462
SEQUENCE:3
DTSTAMP:20260420T105943Z
URL:https://business.stgeorgechamber.com/events/details/chamber-eats-bearpaw-cafe-18462
END:VEVENT

END:VCALENDAR
