BEGIN:VCALENDAR
VERSION:2.0
PRODID:-//ChamberMaster//Event Calendar 2.0//EN
METHOD:PUBLISH
X-PUBLISHED-TTL:P3D
REFRESH-INTERVAL:P3D
CALSCALE:GREGORIAN
BEGIN:VEVENT
DTSTART:20140416T173000Z
DTEND:20140416T190000Z
X-MICROSOFT-CDO-ALLDAYEVENT:FALSE
SUMMARY:Chamber Connect--SGC
DESCRIPTION:Come and have some great networking fun as you meet a couple dozen new people in a comfortable and energizing environment. Don't forget your business cards!\n\n\n\nThere will be seven people at each table.  Each person will get 6 minutes to share a personal or business success\, goal and challenge.  Think "S.G.C." for St George Chamber only for tomorrow's luncheon those initials stand for "Success\, Goal\, Challenge."  The other six people at your table will be your personal board of advisors or your mastermind group congratulating you on your Success\, providing you with guidance to achieve your Goal and sharing insights into how you might overcome your Challenge.  It's a great event for getting feedback and making a deeper more personable connection with others in the community.
X-ALT-DESC;FMTTYPE=text/html:<div style="margin: 0in 0in 0.0001pt\; text-align: center\;"><span style="font-size:14px\;"><span style="font-family:arial\;"><span style="color: black\; line-height: 1.6\;">Come and have some great networking fun as you meet a couple dozen new people in a comfortable and energizing environment. Don&#39\;t forget your business cards!</span></span></span></div>\n\n<div style="margin: 0in 0in 0.0001pt\;"><br />\n<span style="color: black\; font-family: arial\; font-size: 14px\; line-height: 1.6\;">There will be seven people at each table.&nbsp\; Each person will get 6 minutes to share a personal or business success\, goal and challenge.&nbsp\; Think &quot\;S.G.C.&quot\; for St George Chamber only for tomorrow&#39\;s luncheon those initials stand for &quot\;Success\, Goal\, Challenge.&quot\;&nbsp\; The other six people at your table will be your personal board of advisors or your mastermind group congratulating you on your Success\, providing you with guidance to achieve your Goal and sharing insights into how you might overcome your Challenge.&nbsp\; It&#39\;s a great event for getting feedback and making a deeper more personable connection with others in the community. &nbsp\;</span></div>\n
LOCATION:Best Western Abbey Inn 1129 S. Bluff Street
UID:e.1117.5120
SEQUENCE:3
DTSTAMP:20260421T124940Z
URL:https://business.stgeorgechamber.com/events/details/chamber-connect-sgc-04-16-2014-5120
END:VEVENT

END:VCALENDAR
