BEGIN:VCALENDAR
VERSION:2.0
PRODID:-//ChamberMaster//Event Calendar 2.0//EN
METHOD:PUBLISH
X-PUBLISHED-TTL:P3D
REFRESH-INTERVAL:P3D
CALSCALE:GREGORIAN
BEGIN:VEVENT
DTSTART:20150520T173000Z
DTEND:20150520T190000Z
X-MICROSOFT-CDO-ALLDAYEVENT:FALSE
SUMMARY:Chamber Connect featuring Washington County Search and Rescue
DESCRIPTION:Just five months into 2015\, the Washington County Search and Rescue team has been called out nearly 50 times.  This number surpasses last year's previous record of 44 overall calls.  At this Wednesday' luncheon\, we'll hear from members of the Washington County Search and Rescue team.  They'll discuss calls and rescues they've made\, what it takes to be a volunteer\, training\, and the benefit to the community.\n\n\n\nThe Washington County Search & Rescue was founded to:  *serve the residents of Washington County\, Utah\n\n*provide the men and women constituting the membership with training in organized technical search and rescue techniques\n\n*serve as a specialized resource for non-urban search and rescue missions
X-ALT-DESC;FMTTYPE=text/html:<div style="color: rgb(0\, 0\, 0)\; font-family: Verdana\, Geneva\, Arial\, Helvetica\, sans-serif\; font-size: 11pt\; line-height: normal\;">\n<p>Just five months into 2015\, the Washington County Search and Rescue team has been called out nearly 50 times.&nbsp\; This number surpasses last year&#39\;s previous record of 44 overall calls.&nbsp\; At this Wednesday&#39\;&nbsp\;luncheon\, we&#39\;ll hear from members of the Washington County Search and Rescue team.&nbsp\; They&#39\;ll discuss calls and rescues they&#39\;ve made\, what it takes to be a volunteer\, training\, and the benefit to the community.<br />\n<br />\nThe Washington County Search &amp\; Rescue was founded to: &nbsp\;*serve the residents of Washington County\, Utah<br />\n*provide the men and women constituting the membership with training in organized technical search and rescue techniques<br />\n*serve as a specialized resource for non-urban search and rescue missions</p>\n</div>\n
LOCATION:Best Western Abbey Inn 1129 S. Bluff Street
UID:e.1117.6448
SEQUENCE:3
DTSTAMP:20260420T155244Z
URL:https://business.stgeorgechamber.com/events/details/chamber-connect-featuring-washington-county-search-and-rescue-05-20-2015-6448
END:VEVENT

END:VCALENDAR
