BEGIN:VCALENDAR
VERSION:2.0
PRODID:-//ChamberMaster//Event Calendar 2.0//EN
METHOD:PUBLISH
X-PUBLISHED-TTL:P3D
REFRESH-INTERVAL:P3D
CALSCALE:GREGORIAN
BEGIN:VEVENT
DTSTART:20150916T173000Z
DTEND:20150916T190000Z
X-MICROSOFT-CDO-ALLDAYEVENT:FALSE
SUMMARY:Chamber Connect featuring Utah Representative and DSU VP of Advancement Brad Last
DESCRIPTION:This luncheon will feature Dixie State University Vice-President of Advancement Brad Last\, who will share with us the strategic plan for the future of Dixie State University.\n\nLast earned his bachelor's degree and MBA from the University of Utah.  He lives in Hurricane\, Utah\, where he works as the Vice President of Development at Dixie State University.  Last also served on the Washington County Board of Education from 1994 until 2002.\n\n\n\nBradley 'Brad' G. Last is an American politician and a Republican member of the Utah House of Representatives representing District 71 since January 1\, 2003.  During the 2013 and 2014 legislative sessions\, Representative Last served on the Retirement and Independent Entities Appropriations Subcommittee\, the Public Education Appropriations Subcommittee\, the House Economic Development and Workforce Services Committee\, the House Education Committee\, and the House Retirement and Independent Entities Committee. During the interim\, Last served on the Economic Development and Workforce Services Interim Committee\, the Education Interim Committee\, and the Retirement and Independent Entities Interim Committee. Last also served on the both the Economic Development and Education Task Forces.
X-ALT-DESC;FMTTYPE=text/html:<p><span style="font-size:14px\;"><span style="font-family:arial\;"><span style="color:#000000\;">This luncheon will feature Dixie State University Vice-President of Advancement Brad Last\, who will&nbsp\;</span><span style="color: black\;">share&nbsp\;with us the&nbsp\;strategic plan for the future of Dixie State University.</span></span></span></p>\n\n<p style="font-family: Tahoma\, Geneva\, sans-serif\; color: rgb(0\, 0\, 0)\; font-size: 12px\; line-height: normal\;"><span style="font-size:14px\;"><span style="font-family:arial\;">Last earned his bachelor&#39\;s degree and MBA from the University of Utah. &nbsp\;He&nbsp\;lives in Hurricane\, Utah\, where he works as the Vice President of Development at Dixie State University. &nbsp\;Last also served on the Washington County Board of Education from 1994 until 2002.<br />\n<br />\n<span style="color: rgb(0\, 0\, 0)\; line-height: normal\;">Bradley &#39\;Brad&#39\; G. Last&nbsp\;</span><span style="color: rgb(0\, 0\, 0)\; line-height: normal\;">is an American politician and a Republican member of the Utah House of Representatives representing District 71 since January 1\, 2003. &nbsp\;</span>During the 2013 and 2014 legislative sessions\, Representative Last served on the Retirement and Independent Entities Appropriations Subcommittee\, the Public Education Appropriations Subcommittee\, the House Economic Development and Workforce Services Committee\, the House Education Committee\, and the House Retirement and Independent Entities Committee. During the interim\, Last served on the Economic Development and Workforce Services Interim Committee\, the Education Interim Committee\, and the Retirement and Independent Entities Interim Committee. Last also served on the both the Economic Development and Education Task Forces.</span></span></p>\n
LOCATION:Dixie State University Gardner Center Ballroom 225 S. 700 E. St. George\, UT
UID:e.1117.6991
SEQUENCE:3
DTSTAMP:20260420T085319Z
URL:https://business.stgeorgechamber.com/events/details/chamber-connect-featuring-utah-representative-and-dsu-vp-of-advancement-brad-last-09-16-2015-6991
END:VEVENT

END:VCALENDAR
