BEGIN:VCALENDAR
VERSION:2.0
PRODID:-//ChamberMaster//Event Calendar 2.0//EN
METHOD:PUBLISH
X-PUBLISHED-TTL:P3D
REFRESH-INTERVAL:P3D
CALSCALE:GREGORIAN
BEGIN:VEVENT
DTSTART:20150415T173000Z
DTEND:20150415T190000Z
X-MICROSOFT-CDO-ALLDAYEVENT:FALSE
SUMMARY:Chamber Connect featuring St. George Tourism
DESCRIPTION:This Wednesday's Chamber Connect will feature Kevin Lewis\, Sports & Event Marketing for the St. George Tourism Office.  His remarks will include information on the 70.3 Ford Ironman St. George.\n\n \n\nIt's time to get pumped up for the IRONMAN 70.3 North American Pro Championship. Kevin Lewis\, director of Sports Marketing for the St. George Area Tourism Office will share the inside scoop on this year's race and give insights to growing impact it has in our community.\n\n \n\nAnother great field of athletes are lining up for this year's race. For the first time we'll have both the reigning male and female IRONMAN World Champions participating.\n\n \n\nSt. George is a signature course on the IRONMAN circuit-taking athletes through the amazing scenery of the area including the swim at Sand Hollow State Park and a ride through Snow Canyon State Park. The event brings more than 2500 athletes to the area each May. It involves nearly 3000 volunteers from the community and requires extensive cooperation from city\, county and state agencies. The race brings nearly $5 million in economic impact each year and the IRONMAN brand helps solidify this area as an active adventure destination.\n\n\n\nHave you ever been beaten by the 18x World Horseshoe Champion?  Kevin Lewis has.  Been behind the scenes for the Ironman St. George Pro Championships?  That's Kevin too!  When he isn't reigning in world class sporting events\, Kevin is editing and scripting beautiful footage for the St. George Convention and Visitor's Bureau.
X-ALT-DESC;FMTTYPE=text/html:<div style="color: rgb(0\, 0\, 0)\; font-family: Verdana\, Geneva\, Arial\, Helvetica\, sans-serif\; font-size: 11pt\; line-height: normal\;">\n<p><span style="font-size:14px\;"><span style="font-family:arial\;">This Wednesday&#39\;s Chamber Connect will feature Kevin Lewis\, Sports &amp\; Event Marketing for the St. George Tourism Office. &nbsp\;His remarks will include information on the 70.3 Ford Ironman St. George.<br />\n&nbsp\;<br />\nIt&rsquo\;s time to get pumped up for the IRONMAN 70.3 North American Pro Championship. Kevin Lewis\, director of Sports Marketing for the St. George Area Tourism Office will share the inside scoop on this year&rsquo\;s race and give insights to growing impact it has in our community.<br />\n&nbsp\;<br />\nAnother great field of athletes are lining up for this year&rsquo\;s race. For the first time we&rsquo\;ll have both the reigning male and female IRONMAN World Champions participating.<br />\n&nbsp\;<br />\nSt. George is a signature course on the IRONMAN circuit-taking athletes through the amazing scenery of&nbsp\;the area including the swim at Sand Hollow State Park and a ride through Snow Canyon State Park. The event brings more than 2500 athletes to the area each May. It involves nearly 3000 volunteers from the community and requires extensive cooperation from city\, county and state agencies. The race brings nearly $5 million in economic impact each year and the IRONMAN brand helps solidify this area as an active adventure destination.<br />\n<br />\nHave you ever been beaten by the 18x World Horseshoe Champion? &nbsp\;Kevin Lewis has. &nbsp\;Been behind the scenes for&nbsp\;the Ironman St. George Pro Championships? &nbsp\;That&#39\;s Kevin&nbsp\;too! &nbsp\;When he isn&#39\;t reigning in world class sporting events\, Kevin is editing and scripting beautiful footage for the St. George Convention and Visitor&#39\;s Bureau.</span></span></p>\n</div>\n
LOCATION:Courtyard by Marriott 185 S. 1470 E.
UID:e.1117.6353
SEQUENCE:3
DTSTAMP:20260420T173054Z
URL:https://business.stgeorgechamber.com/events/details/chamber-connect-featuring-st-george-tourism-04-15-2015-6353
END:VEVENT

END:VCALENDAR
