BEGIN:VCALENDAR
VERSION:2.0
PRODID:-//ChamberMaster//Event Calendar 2.0//EN
METHOD:PUBLISH
X-PUBLISHED-TTL:P3D
REFRESH-INTERVAL:P3D
CALSCALE:GREGORIAN
BEGIN:VEVENT
DTSTART:20160217T183000Z
DTEND:20160217T200000Z
X-MICROSOFT-CDO-ALLDAYEVENT:FALSE
SUMMARY:Chamber Connect featuring Southwest Utah Public Health Department
DESCRIPTION:Business owners are constantly looking to the future\, identify trends and preparing for challenges.  A healthy workforce is crucial to the success of any business.  Come learn about teen drug use (your future employees) and how we\, as a community\, can prevent the use of these harmful drugs.  We will discuss the following:\n\n\n	          New trends - e-cigarette and marijuana use has significantly increased  in Washington County with 1 in 3\, 12th graders experimenting with e-cigs.\n	          New harms - learn how nicotine and THC (marijuana) wires the developing brain for addiction\, including the latest e-cigarette research showing they are more harmful than originally thought.\n	          Business solutions - learn what resources exist to help businesses prevent drug use among employees.\n\nPresenters:\n\n\n	          Dr. Craig Georgianna PhD\, LMFT - Therapia Addiction Healing Center\n	          Logan Reid\, MS\, PS - Director of Prevention Services\, Southwest Utah Behavioral Health Center\n	          Kye Nordfelt\, MPA\, PS - Director of Health Promotions\, Southwest Utah Public Health Department
X-ALT-DESC;FMTTYPE=text/html:<p><span style="font-size:14px\;"><span style="font-family:arial\;">Business owners are constantly looking to the future\, identify trends and preparing for challenges.&nbsp\; A healthy workforce is crucial to the success of any business.&nbsp\; Come learn about teen drug use (your future employees) and how we\, as a community\, can prevent the use of these harmful drugs.&nbsp\; We will discuss the following:</span></span></p>\n\n<ul>\n	<li><span style="font-size:14px\;"><span style="font-family:arial\;">&middot\;&nbsp\;&nbsp\;&nbsp\;&nbsp\;&nbsp\;&nbsp\;&nbsp\;&nbsp\; <u>New trends</u> - e-cigarette and marijuana use has significantly increased &nbsp\;in Washington County with 1 in 3\, 12th graders experimenting with e-cigs.</span></span></li>\n	<li><span style="font-size:14px\;"><span style="font-family:arial\;">&middot\;&nbsp\;&nbsp\;&nbsp\;&nbsp\;&nbsp\;&nbsp\;&nbsp\;&nbsp\; <u>New harms</u> - learn how nicotine and THC (marijuana) wires the developing brain for addiction\, including the latest e-cigarette research showing they are more harmful than originally thought.</span></span></li>\n	<li><span style="font-size:14px\;"><span style="font-family:arial\;">&middot\;&nbsp\;&nbsp\;&nbsp\;&nbsp\;&nbsp\;&nbsp\;&nbsp\;&nbsp\; <u>Business solutions</u> - learn what resources exist to help businesses prevent drug use among employees.</span></span></li>\n</ul>\n<span style="font-size:14px\;"><span style="font-family:arial\;"><em>Presenters:</em></span></span>\n\n<ul>\n	<li><span style="font-size:14px\;"><span style="font-family:arial\;">&middot\;&nbsp\;&nbsp\;&nbsp\;&nbsp\;&nbsp\;&nbsp\;&nbsp\;&nbsp\; Dr. Craig Georgianna PhD\, LMFT - Therapia Addiction Healing Center</span></span></li>\n	<li><span style="font-size:14px\;"><span style="font-family:arial\;">&middot\;&nbsp\;&nbsp\;&nbsp\;&nbsp\;&nbsp\;&nbsp\;&nbsp\;&nbsp\; Logan Reid\, MS\, PS - Director of Prevention Services\, Southwest Utah Behavioral Health Center</span></span></li>\n	<li><span style="font-size:14px\;"><span style="font-family:arial\;">&middot\;&nbsp\;&nbsp\;&nbsp\;&nbsp\;&nbsp\;&nbsp\;&nbsp\;&nbsp\; Kye Nordfelt\, MPA\, PS - Director of Health Promotions\, Southwest Utah Public Health Department &nbsp\;&nbsp\;</span></span></li>\n</ul>\n
LOCATION:Best Western Abbey Inn 1129 S. Bluff St. St. George
UID:e.1117.8445
SEQUENCE:3
DTSTAMP:20260419T234953Z
URL:https://business.stgeorgechamber.com/events/details/chamber-connect-featuring-southwest-utah-public-health-department-02-17-2016-8445
END:VEVENT

END:VCALENDAR
