BEGIN:VCALENDAR
VERSION:2.0
PRODID:-//ChamberMaster//Event Calendar 2.0//EN
METHOD:PUBLISH
X-PUBLISHED-TTL:P3D
REFRESH-INTERVAL:P3D
CALSCALE:GREGORIAN
BEGIN:VEVENT
DTSTART:20150318T173000Z
DTEND:20150318T190000Z
X-MICROSOFT-CDO-ALLDAYEVENT:FALSE
SUMMARY:Chamber Connect featuring Photographer Lynne Clark
DESCRIPTION:This Wednesday's Chamber Connect luncheon will feature local historian and famed photographer\, Lynne Clark.  You may have seen parts of her collections of historic St George photographs in various businesses around town or her stunning "Images of Faith" 400-page book filled with more than 1200 historical photos of the people who settled our area.  Lynne's presentation will feature an informative historical visual history of Southern Utah using a portion of her nearly 20\,000 historical images.\n\n \n\n\nLynne Clark Brunson is a photographer\, artist\, musician\, actress\, therapist\, historian and author.  A native of Farmington\, New Mexico\, she graduated from Brigham Young University with a degree in music and art.  She moved to Southern Utah in the 1960's and raised five children while operating the Lynne Clark Photography Studio.  She also has a Master's Degree in Marriage and Family Therapy and has had a private practice since 1990.\n\n \n\nShe has been a high school choral music teacher\, has taught art and photography at Dixie College\, a past member of the Mormon Tabernacle Choir and the Southern Utah Heritage Choir.  She is well known as an inspiration teacher\, speaker\, life coach\, and counselor.  Her paintings and photographs have won numerous awards and her work graces many homes and business around the country.  She is presently at work on a book about healing.
X-ALT-DESC;FMTTYPE=text/html:<div align="left" style="color: rgb(0\, 0\, 0)\; font-family: Verdana\, Geneva\, Arial\, Helvetica\, sans-serif\; font-size: 11pt\; line-height: normal\;"><span style="font-size: 11pt\;"><span class="aBn" data-term="goog_1833965805" style="border-bottom-width: 1px\; border-bottom-style: dashed\; border-bottom-color: rgb(204\, 204\, 204)\; position: relative\; top: -2px\; z-index: 0\;" tabindex="0"><span class="aQJ" style="position: relative\; top: 2px\; z-index: -1\;">This Wednesday's Chamber Connect</span></span>&nbsp\;luncheon will feature local historian and famed photographer\, Lynne Clark.&nbsp\; You may have seen parts of her collections of historic St George photographs in various businesses around town or her stunning "Images of Faith" 400-page book filled with more than 1200 historical photos of the people who settled our area. &nbsp\;Lynne's presentation will feature an informative historical visual history of Southern Utah using a portion of her nearly 20\,000 historical images.</span></div>\n\n<div align="left" style="color: rgb(0\, 0\, 0)\; font-family: Verdana\, Geneva\, Arial\, Helvetica\, sans-serif\; font-size: 11pt\; line-height: normal\;"><strong style="text-align: center\; font-size: 11pt\;">&nbsp\;</strong></div>\n\n<div align="left" style="color: rgb(0\, 0\, 0)\; font-family: Verdana\, Geneva\, Arial\, Helvetica\, sans-serif\; font-size: 11pt\; line-height: normal\;">\n<p style="margin-top: 0px\; margin-bottom: 0px\;"><span style="font-size: 11pt\;">Lynne Clark Brunson is a photographer\, artist\, musician\, actress\, therapist\, historian and author.&nbsp\; A native of Farmington\, New Mexico\, she graduated from Brigham Young University with a degree in music and art.&nbsp\; She moved to Southern Utah in the 1960's and raised five children while operating&nbsp\;the Lynne Clark Photography Studio. &nbsp\;She&nbsp\;also has a Master's Degree in Marriage and Family Therapy and has had a private practice&nbsp\;since 1990.</span></p>\n\n<p style="margin-top: 0px\; margin-bottom: 0px\;"><span style="font-size: 11pt\;">&nbsp\;</span></p>\n\n<p style="margin-top: 0px\; margin-bottom: 0px\;"><span style="font-size: 11pt\;">She has been a high school choral music teacher\, has taught art and photography at Dixie College\, a past member of the Mormon Tabernacle Choir and the Southern Utah Heritage Choir.&nbsp\; She is well known as an inspiration teacher\, speaker\, life coach\,&nbsp\;and counselor.&nbsp\; Her paintings and&nbsp\;photographs&nbsp\;have won numerous awards and her work graces many homes and business around the country.&nbsp\; She is presently at work on a book about healing.</span></p>\n</div>\n
LOCATION:Dixie State University Gardner Center Ballroom 225 S. 700 E. St. George
UID:e.1117.6307
SEQUENCE:3
DTSTAMP:20260420T190936Z
URL:https://business.stgeorgechamber.com/events/details/chamber-connect-featuring-photographer-lynne-clark-03-18-2015-6307
END:VEVENT

END:VCALENDAR
