BEGIN:VCALENDAR
VERSION:2.0
PRODID:-//ChamberMaster//Event Calendar 2.0//EN
METHOD:PUBLISH
X-PUBLISHED-TTL:P3D
REFRESH-INTERVAL:P3D
CALSCALE:GREGORIAN
BEGIN:VEVENT
DTSTART:20150121T183000Z
DTEND:20150121T200000Z
X-MICROSOFT-CDO-ALLDAYEVENT:FALSE
SUMMARY:Chamber Connect featuring Leisure Services Director Kent Perkins
DESCRIPTION:This luncheon will feature City of St. George Leisure Services Director Kent Perkins entitled\, "I am so excited about 2015."\n\n \n\nKent has been with the City for over 32 years and this year will be one of the most exciting ever. And here is why:\n\nHe will discuss the many exciting projects and ideas that they are working on at Leisure Services. Among other things this includes all-abilities park\, Seegmiller Farm Park\, Millcreek Park\, Electric Theater\, Sand Hollow Community Park\, Elks Field changes\, RAP Tax projects\, Downtown Arts District\, etc. He will speak about what they are doing and why they are doing it and when each project will be done. \n\n\n\nThe mission of Leisure Services is to enhance the quality of life and aesthetic beauty of the community through outstanding parks\, facilities and programs.
X-ALT-DESC;FMTTYPE=text/html:<p><span style="color:#000000\;"><span style="font-family:arial\;"><span style="font-size:14px\;">This luncheon will feature City of St. George Leisure Services Director Kent Perkins entitled\, &quot\;I am so excited about 2015.&rdquo\;<br />\n&nbsp\;<br />\nKent has been with the City for over 32 years and this year will be one of the most exciting ever. And here is why:<br />\nHe will discuss the many exciting projects and ideas that they are working on at Leisure Services. Among other things this includes all-abilities park\, Seegmiller Farm Park\, Millcreek Park\, Electric Theater\, Sand Hollow Community Park\, Elks Field changes\, RAP Tax projects\, Downtown Arts District\, etc. He&nbsp\;will speak about what they are doing and why they are doing it and when each project will be done.&nbsp\;<br />\n<br />\n<span style="line-height: 24px\;">The&nbsp\;mission of Leisure Services&nbsp\;is to enhance the quality of life and aesthetic beauty of the community through outstanding parks\, facilities and programs.&nbsp\;</span></span></span></span></p>\n
LOCATION:1129 S. Bluff Street St. George\, UT
UID:e.1117.5912
SEQUENCE:3
DTSTAMP:20260420T233216Z
URL:https://business.stgeorgechamber.com/events/details/chamber-connect-featuring-leisure-services-director-kent-perkins-01-21-2015-5912
END:VEVENT

END:VCALENDAR
