BEGIN:VCALENDAR
VERSION:2.0
PRODID:-//ChamberMaster//Event Calendar 2.0//EN
METHOD:PUBLISH
X-PUBLISHED-TTL:P3D
REFRESH-INTERVAL:P3D
CALSCALE:GREGORIAN
BEGIN:VEVENT
DTSTART:20160420T173000Z
DTEND:20160420T190000Z
X-MICROSOFT-CDO-ALLDAYEVENT:FALSE
SUMMARY:Chamber Connect featuring DXATC President Kelle Stephens
DESCRIPTION:Located in the Tonaquint area of sunny St. George\, the Dixie Applied Technology College is one of eight regional colleges that comprise the Utah College of Applied Technology. DXATC is the premier college for skill and competency based training in Washington County.\n\nDXATC was created during a special session of the Utah State Legislature in 2001 through House Bill 1003 which created the Utah College of Applied Technology and its regional campuses: Bridgerland\, Davis\, Dixie\, Mountainland\, Ogden-Weber\, Tooele\, Southwest\, and Uintah Basin. The UCAT Board of Trustees provides oversight and governs the activities of the eight campuses.\n\nOur charge is to provide relevant skill and competency based training to prepare students for good jobs. To that end\, the DXATC commits to our vision mission\, and guiding principles:\n\nForward Thinking\, Future Focused\, Career Ready\n\nDXATC currently offers Certificate Programs in:\n\nCertified Nurse Assistant CNA\n\nCNC Machining\n\nDiesel Technology\n\nDrafting and Design\n\nElectrical Apprenticeship\n\nEmergency Medical Technician\n\nEmergency Medical Technician Advanced\n\nHealthcare Billing and Coding\n\nHVAC Technician\n\nIndustrial & Facilities Maintenance\n\nInformation Technology\n\nLean Six Sigma\, Green and Black Belt\n\nManufacturing Operations\n\nMedical Assisting\n\nOffice Management\n\nPharmacy Technician\n\nPlumbing Apprenticeship\n\nCertified Quality Control Technician\n\nIn addition to our COE Accredited programs\, we offer short term industry specific courses for:\n\nAdobe Suite\n\nAmerican Heart Association\n\nContractor Continuing Education\n\nFloral Design\n\nInsurance Continuing Education\n\nSHRM Human Resources\n\nWildland Firefighting
X-ALT-DESC;FMTTYPE=text/html:<p><span style="font-size:14px\;"><span style="font-family:arial\;">Located in the Tonaquint area of sunny St. George\, the Dixie Applied Technology College is one of eight regional colleges that comprise the Utah College of Applied Technology. DXATC is the premier college for skill and competency based training in Washington County.<br />\nDXATC was created during a special session of the Utah State Legislature in 2001 through House Bill 1003 which created the Utah College of Applied Technology and its regional campuses: Bridgerland\, Davis\, Dixie\, Mountainland\, Ogden-Weber\, Tooele\, Southwest\, and Uintah Basin. The UCAT Board of Trustees provides oversight and governs the activities of the eight campuses.<br />\nOur charge is to provide relevant skill and competency based training to prepare students for good jobs. To that end\, the DXATC commits to our vision mission\, and guiding principles:<br />\nForward Thinking\, Future Focused\, Career Ready<br />\nDXATC currently offers Certificate Programs in:<br />\nCertified Nurse Assistant CNA<br />\nCNC Machining<br />\nDiesel Technology<br />\nDrafting and Design<br />\nElectrical Apprenticeship<br />\nEmergency Medical Technician<br />\nEmergency Medical Technician Advanced<br />\nHealthcare Billing and Coding<br />\nHVAC Technician<br />\nIndustrial &amp\; Facilities Maintenance<br />\nInformation Technology<br />\nLean Six Sigma\, Green and Black Belt<br />\nManufacturing Operations<br />\nMedical Assisting<br />\nOffice Management<br />\nPharmacy Technician<br />\nPlumbing Apprenticeship<br />\nCertified Quality Control Technician<br />\nIn addition to our COE Accredited programs\, we offer short term industry specific courses for:<br />\nAdobe Suite<br />\nAmerican Heart Association<br />\nContractor Continuing Education<br />\nFloral Design<br />\nInsurance Continuing Education<br />\nSHRM Human Resources<br />\nWildland Firefighting</span></span></p>\n
LOCATION:1129 S. Bluff Street St. George\, UT
UID:e.1117.8472
SEQUENCE:3
DTSTAMP:20260419T215710Z
URL:https://business.stgeorgechamber.com/events/details/chamber-connect-featuring-dxatc-president-kelle-stephens-04-20-2016-8472
END:VEVENT

END:VCALENDAR
