BEGIN:VCALENDAR
VERSION:2.0
PRODID:-//ChamberMaster//Event Calendar 2.0//EN
METHOD:PUBLISH
X-PUBLISHED-TTL:P3D
REFRESH-INTERVAL:P3D
CALSCALE:GREGORIAN
BEGIN:VEVENT
DTSTART:20150617T173000Z
DTEND:20150617T190000Z
X-MICROSOFT-CDO-ALLDAYEVENT:FALSE
SUMMARY:Chamber Connect featuring City of St. George Energy Services Department
DESCRIPTION:Summer is here and so is the heat!  Do you know what to do if your power goes out?  Are you prepared?\n\nAt this Wednesday's luncheon\, you'll learn what to do to keep your energy costs down\, how to conserve power and what to do in a power emergency.\n\nThe City of St. George's Energy Services Department (SGESD) is to provide safe\, affordable and reliable energy to approximately 28\,000 customers\, including residential and commercial. SGESD offers 24-hour dispatch service for maintenance and repairs for existing customers (435-627-4876)\, and also coordinates with the building department to hook up new customers in a timely manner.\n\nRen  Fleming has worked for the City of St. George for eight years\, serving in the position of Water and Energy Conservation Coordinator since 2003.  In this position Ren  has developed programs designed to educate as well as providing rebate programs to help customers afford to implement water and energy efficiency into their homes and businesses.
X-ALT-DESC;FMTTYPE=text/html:<div style="color: rgb(0\, 0\, 0)\; font-family: Verdana\, Geneva\, Arial\, Helvetica\, sans-serif\; font-size: 11pt\; line-height: normal\;">\n<p><span style="color:#000000\;">Summer is here and so is the heat! &nbsp\;Do you know what to do if your power goes out?&nbsp\; Are you prepared?<br />\nAt this Wednesday&#39\;s luncheon\, you&#39\;ll learn what to do to keep your energy costs down\, how to conserve power and what to do in a power emergency.<br />\nThe City of St. George&#39\;s Energy Services Department (SGESD) is to provide safe\, affordable and reliable energy to approximately 28\,000 customers\, including residential and commercial. SGESD offers 24-hour dispatch service for maintenance and repairs for existing customers (435-627-4876)\, and also coordinates with the building department to hook up new customers in a timely manner.<br />\nRen&eacute\; Fleming has worked for the City of St. George for eight years\, serving in the position of Water and Energy Conservation Coordinator since 2003.&nbsp\; In this position Ren&eacute\; has developed programs designed to educate as well as providing rebate programs to help customers afford to implement water and energy efficiency into their homes and businesses.</span></p>\n</div>\n
LOCATION:Best Western Abbey Inn 1129 S. Bluff Street
UID:e.1117.6476
SEQUENCE:3
DTSTAMP:20260420T135903Z
URL:https://business.stgeorgechamber.com/events/details/chamber-connect-featuring-city-of-st-george-energy-services-department-06-17-2015-6476
END:VEVENT

END:VCALENDAR
