BEGIN:VCALENDAR
VERSION:2.0
PRODID:-//ChamberMaster//Event Calendar 2.0//EN
METHOD:PUBLISH
X-PUBLISHED-TTL:P3D
REFRESH-INTERVAL:P3D
CALSCALE:GREGORIAN
BEGIN:VEVENT
DTSTART:20230907T143000Z
DTEND:20230907T153000Z
X-MICROSOFT-CDO-ALLDAYEVENT:FALSE
SUMMARY:Chamber 101
DESCRIPTION:Chamber 101 is a crash course on all things Chamber-related. This course is recommended for all newly joining Chamber members\, freshly appointed Sunshiners\, and anyone who wants to understand more about what the Chamber offers and how to make the most of your membership.
X-ALT-DESC;FMTTYPE=text/html:<span style="font-size:16px\;"><span style="font-family:arial\;">Chamber 101 is a crash course on all things Chamber-related. This course is recommended for all newly joining Chamber members\, freshly appointed Sunshiners\, and anyone who wants to understand more about what the Chamber offers and how to make the most of your membership.</span></span>
LOCATION:SGACC 136 N 100 E St. George\, UT 84770
UID:e.1117.17188
SEQUENCE:3
DTSTAMP:20260423T084503Z
URL:https://business.stgeorgechamber.com/events/details/chamber-101-17188
END:VEVENT

END:VCALENDAR
