BEGIN:VCALENDAR
VERSION:2.0
PRODID:-//ChamberMaster//Event Calendar 2.0//EN
METHOD:PUBLISH
X-PUBLISHED-TTL:P3D
REFRESH-INTERVAL:P3D
CALSCALE:GREGORIAN
BEGIN:VEVENT
DTSTART:20151106T023000Z
DTEND:20151106T050000Z
X-MICROSOFT-CDO-ALLDAYEVENT:FALSE
SUMMARY:Celebrity Concert Series: Young Irelanders
DESCRIPTION:The Young Irelanders comprises eight sensational performers who have Irish traditional music\, song & dance running through their veins. Although still in their 20's and 30's\, these performers have achieved more than most people would aspire to in a lifetime.
X-ALT-DESC;FMTTYPE=text/html:<span style="color: rgb(0\, 0\, 0)\; font-family: spinnaker\, sans-serif\; font-size: 14px\; line-height: normal\;">The Young Irelanders comprises eight sensational performers who have Irish traditional music\, song &amp\; dance running through their veins. Although still in their 20&rsquo\;s and 30&rsquo\;s\, these performers have achieved more than most people would aspire to in a lifetime.</span>
LOCATION:Cox Auditorium 225 S. 700 E. St. George
UID:e.1117.7260
SEQUENCE:3
DTSTAMP:20260420T051422Z
URL:https://business.stgeorgechamber.com/events/details/celebrity-concert-series-young-irelanders-11-05-2015-7260
END:VEVENT

END:VCALENDAR
