BEGIN:VCALENDAR
VERSION:2.0
PRODID:-//ChamberMaster//Event Calendar 2.0//EN
METHOD:PUBLISH
X-PUBLISHED-TTL:P3D
REFRESH-INTERVAL:P3D
CALSCALE:GREGORIAN
BEGIN:VEVENT
DTSTART:20140320T013000Z
DTEND:20140320T033000Z
X-MICROSOFT-CDO-ALLDAYEVENT:FALSE
SUMMARY:Celebrity Concert Series: VIVACE
DESCRIPTION:Vivace is a modern and thrilling combination of four unique and exceptional pop and classical singers. Based primarily out of Vancouver\, Melody Courage\, Tiffany Desrosiers\, Marc Devigne and DJ Calhoun first merged their talents in 2010 performing at the Vancouver Winter Olympic Games. Since then\, they have gone on to tour extensively through the United States and Canada stirring audiences everywhere they go. Vivace is the latest addition to the classical crossover/popera genre. Their stirring combination of powerful male voices and emotionally driven female vocals come together to create a sound that is exclusively their own. With a rich and diverse repertoire ranging from pop\, to arias\, Vivace undoubtedly puts a fresh new take on the classical and modern music of today.
X-ALT-DESC;FMTTYPE=text/html:<p><span style="font-size:14px\;"><span style="font-family:arial\;"><span style="line-height: normal\;">Vivace is a modern and thrilling combination of four unique and exceptional pop and classical singers. Based primarily out of Vancouver\, Melody Courage\, Tiffany Desrosiers\, Marc Devigne and DJ Calhoun first merged their talents in 2010 performing at the Vancouver Winter Olympic Games. Since then\, they have gone on to tour extensively through the United States and Canada stirring audiences everywhere they go. Vivace is the latest addition to the classical crossover/popera genre. Their stirring combination of powerful male voices and emotionally driven female vocals come together to create a sound that is exclusively their own. With a rich and diverse repertoire ranging from pop\, to arias\, Vivace undoubtedly puts a fresh new take on the classical and modern music of today.</span></span></span></p>\n
LOCATION:Cox Performing Arts Center on Dixie State University campus 325 South 700 East\, St. George\, Utah.
UID:e.1117.5011
SEQUENCE:3
DTSTAMP:20260421T142845Z
URL:https://business.stgeorgechamber.com/events/details/celebrity-concert-series-vivace-03-19-2014-5011
END:VEVENT

END:VCALENDAR
