BEGIN:VCALENDAR
VERSION:2.0
PRODID:-//ChamberMaster//Event Calendar 2.0//EN
METHOD:PUBLISH
X-PUBLISHED-TTL:P3D
REFRESH-INTERVAL:P3D
CALSCALE:GREGORIAN
BEGIN:VEVENT
DTSTART:20151125T023000Z
DTEND:20151125T050000Z
X-MICROSOFT-CDO-ALLDAYEVENT:FALSE
SUMMARY:Celebrity Concert Series: Utah Symphony Orchestra 75th Anniversary Tour
DESCRIPTION:Founded in 1940\, the Utah Symphony is one of America's major symphony orchestras\, known internationally for its distinctive performances and recording legacy. A leading cultural organization in the Intermountain West\, the Utah Symphony has a rich history of international and domestic tours\, award-winning recordings\, and in-depth educational programs. Today\, the orchestra's 85 full-time professional musicians perform over 175 concerts each season.
X-ALT-DESC;FMTTYPE=text/html:<span style="color: rgb(0\, 0\, 0)\; font-family: spinnaker\, sans-serif\; font-size: 14px\; line-height: normal\;">Founded in 1940\, the Utah Symphony is one of America&rsquo\;s major symphony orchestras\, known internationally for its distinctive performances and recording legacy. A leading cultural organization in the Intermountain West\, the Utah Symphony has a rich history of international and domestic tours\, award-winning recordings\, and in-depth educational programs. Today\, the orchestra&rsquo\;s 85 full-time professional musicians perform over 175 concerts each season.</span>
LOCATION:Cox Auditorium 225 S. 700 E. St. George
UID:e.1117.7262
SEQUENCE:3
DTSTAMP:20260420T051653Z
URL:https://business.stgeorgechamber.com/events/details/celebrity-concert-series-utah-symphony-orchestra-75th-anniversary-tour-11-24-2015-7262
END:VEVENT

END:VCALENDAR
